Workbook

Sheet Prijslijst2024 - 20 deelnemers
A1: Prijzentabel seizoen 2022
A2: Categorie | B2: Plaats | Q2: Totaal
A3: Ronde | B3: 1 | C3: 2 | D3: 3 | E3: 4 | F3: 5 | G3: 6 | H3: 7 | I3: 8 | J3: 9 | K3: 10 | L3: 11 | M3: 12 | N3: 13 | O3: 14 | P3: 15 | Q3: Totaal
A4: Tour | B4: 9 | C4: 6.5 | D4: 5 | E4: 4 | F4: 3 | G4: 2.5 | H4: 2 | I4: 1.6 | J4: 1.2 | K4: 0.9 | L4: 0.6 | M4: 0.4 | N4: 0.35 | O4: 0.3 | P4: 0.25 | Q4: =SUM(B4:P4) -> 37.6
A5: Giro/Vuelta | B5: 7.5 | C5: 5.5 | D5: 4.25 | E5: 3.25 | F5: 2.5 | G5: 2 | H5: 1.5 | I5: 1.1 | J5: 0.8 | K5: 0.6 | L5: 0.5 | M5: 0.4 | N5: 0.3 | O5: 0.25 | P5: 0.2 | Q5: =SUM(B5:P5) -> 30.65
A6: Worldtour Super Ronde | B6: 3 | C6: 2.25 | D6: 1.75 | E6: 1.3 | F6: 1 | G6: 0.8 | H6: 0.6 | I6: 0.5 | J6: 0.4 | K6: 0.3 | L6: 0.2 | M6: 0.15 | Q6: =SUM(B6:P6) -> 12.25
A7: Worldtour Ronde | B7: 2 | C7: 1.5 | D7: 1.2 | E7: 0.9 | F7: 0.7 | G7: 0.5 | H7: 0.3 | I7: 0.2 | J7: 0.15 | K7: 0.1 | Q7: =SUM(B7:P7) -> 7.55
A8: HC Ronde | B8: 1 | C8: 0.7 | D8: 0.5 | E8: 0.3 | F8: 0.2 | G8: 0.1 | H8: 0.05 | Q8: =SUM(B8:P8) -> 2.85
A9: Eendaags | B9: 1 | C9: 2 | D9: 3 | E9: 4 | F9: 5 | G9: 6 | H9: 7 | I9: 8 | J9: 9 | K9: 10 | L9: 11 | M9: 12 | N9: 13 | O9: 14 | P9: 15 | Q9: Totaal
A10: Worldtour Klassieker | B10: 3 | C10: 2.25 | D10: 1.75 | E10: 1.3 | F10: 1 | G10: 0.8 | H10: 0.6 | I10: 0.5 | J10: 0.4 | K10: 0.3 | L10: 0.2 | M10: 0.15 | Q10: =SUM(B10:P10) -> 12.25
A11: Worldtour Eendaags | B11: 2 | C11: 1.5 | D11: 1.2 | E11: 0.9 | F11: 0.7 | G11: 0.5 | H11: 0.3 | I11: 0.2 | J11: 0.15 | K11: 0.1 | Q11: =SUM(B11:P11) -> 7.55
A12: HC Semi Klassieker | B12: 1.5 | C12: 1 | D12: 0.7 | E12: 0.5 | F12: 0.3 | G12: 0.15 | H12: 0.05 | Q12: =SUM(B12:P12) -> 4.2
A13: HC Eendaags | B13: 0.9 | C13: 0.6 | D13: 0.4 | E13: 0.2 | F13: 0.1 | Q13: =SUM(B13:P13) -> 2.2
A14: WK/OS Wegrit | B14: 4 | C14: 3 | D14: 2.5 | E14: 2 | F14: 1.6 | G14: 1.3 | H14: 1 | I14: 0.8 | J14: 0.6 | K14: 0.5 | L14: 0.4 | M14: 0.3 | N14: 0.2 | O14: 0.1 | P14: 0.05 | Q14: =SUM(B14:P14) -> 18.35
A15: WK/OS Tijdrit | B15: 3 | C15: 2 | D15: 1.6 | E15: 1.2 | F15: 0.9 | G15: 0.7 | H15: 0.5 | I15: 0.35 | J15: 0.25 | K15: 0.15 | Q15: =SUM(B15:P15) -> 10.65
A16: EK Wegrit | B16: 2.5 | C16: 1.75 | D16: 1.35 | E16: 1 | F16: 0.75 | G16: 0.5 | H16: 0.4 | I16: 0.3 | J16: 0.2 | K16: 0.1 | Q16: =SUM(B16:P16) -> 8.85
A17: EK Tijdrit | B17: 1.75 | C17: 1.25 | D17: 0.8 | E17: 0.5 | F17: 0.3 | G17: 0.15 | H17: 0.05 | Q17: =SUM(B17:P17) -> 4.8
A18: Etappe | B18: 1 | C18: 2 | D18: 3 | E18: 4 | F18: 5 | G18: 6 | H18: 7 | I18: 8 | J18: 9 | K18: 10 | L18: 11 | M18: 12 | N18: 13 | O18: 14 | P18: 15 | Q18: Totaal
A19: Tour | B19: 1 | C19: 0.8 | D19: 0.6 | E19: 0.5 | F19: 0.4 | G19: 0.3 | H19: 0.25 | I19: 0.2 | J19: 0.15 | K19: 0.1 | Q19: =SUM(B19:P19) -> 4.3
A20: Giro/Vuelta | B20: 0.9 | C20: 0.7 | D20: 0.55 | E20: 0.45 | F20: 0.35 | G20: 0.25 | H20: 0.2 | I20: 0.15 | J20: 0.1 | K20: 0.05 | Q20: =SUM(B20:P20) -> 3.7
A21: Worldtour Super Ronde | B21: 0.7 | C21: 0.5 | D21: 0.4 | E21: 0.3 | F21: 0.2 | G21: 0.1 | Q21: =SUM(B21:P21) -> 2.2
A22: Worldtour Ronde | B22: 0.55 | C22: 0.4 | D22: 0.3 | E22: 0.2 | F22: 0.1 | Q22: =SUM(B22:P22) -> 1.55
A23: HC Ronde | B23: 0.3 | C23: 0.2 | D23: 0.1 | Q23: =SUM(B23:P23) -> 0.6
A24: Truien | Q24: Totaal
A25: Punten Tour | B25: 1.5 | Q25: =SUM(B25:P25) -> 1.5
A26: Berg Tour | B26: 1.5 | Q26: =SUM(B26:P26) -> 1.5
A27: Punten Giro/Vuelta | B27: 1 | Q27: =SUM(B27:P27) -> 1
A28: Berg Giro/Vuelta | B28: 1 | Q28: =SUM(B28:P28) -> 1
A29: Nationaal kampioen | B29: 0.5 | Q29: =SUM(B29:P29) -> 0.5
A31: Puntentabel seizoen 2022
A32: Categorie | B32: Plaats | AA32: Totaal
A33: Ronde | B33: 1 | C33: 2 | D33: 3 | E33: 4 | F33: 5 | G33: 6 | H33: 7 | I33: 8 | J33: 9 | K33: 10 | L33: 11 | M33: 12 | N33: 13 | O33: 14 | P33: 15 | Q33: 16 | R33: 17 | S33: 18 | T33: 19 | U33: 20 | V33: 21 | W33: 22 | X33: 23 | Y33: 24 | Z33: 25 | AA33: Totaal
A34: Tour de France | B34: 0 | C34: 0 | D34: 0 | E34: 0 | F34: 0 | G34: 0 | H34: 0 | I34: 0 | J34: 0 | K34: 0 | L34: 20 | M34: 40 | N34: 60 | O34: 80 | P34: 100 | Q34: 200 | R34: 180 | S34: 160 | T34: 140 | U34: 120 | V34: 100 | W34: 80 | X34: 60 | Y34: 40 | Z34: 20 | AA34: =SUM(B34:Z34) -> 1400
A35: Giro/Vuelta | B35: 0 | C35: 0 | D35: 0 | E35: 0 | F35: 0 | G35: 0 | H35: 0 | I35: 0 | J35: 0 | K35: 0 | L35: 15 | M35: 30 | N35: 40 | O35: 60 | P35: 80 | Q35: 160 | R35: 140 | S35: 120 | T35: 100 | U35: 80 | V35: 60 | W35: 50 | X35: 40 | Y35: 30 | Z35: 15 | AA35: =SUM(B35:Z35) -> 1020
A36: Worldtour Super Ronde | B36: 0 | C36: 0 | D36: 0 | E36: 0 | F36: 0 | G36: 0 | H36: 0 | I36: 10 | J36: 20 | K36: 30 | L36: 40 | M36: 50 | N36: 100 | O36: 90 | P36: 80 | Q36: 70 | R36: 60 | S36: 50 | T36: 40 | U36: 30 | V36: 20 | W36: 10 | AA36: =SUM(B36:Z36) -> 700
A37: Worldtour Ronde | B37: 0 | C37: 0 | D37: 0 | E37: 0 | F37: 0 | G37: 10 | H37: 15 | I37: 20 | J37: 30 | K37: 40 | L37: 80 | M37: 70 | N37: 60 | O37: 50 | P37: 40 | Q37: 30 | R37: 20 | S37: 15 | T37: 10 | U37: 5 | AA37: =SUM(B37:Z37) -> 495
A38: HC Ronde | B38: 0 | C38: 0 | D38: 0 | E38: 0 | F38: 0 | G38: 10 | H38: 25 | I38: 50 | J38: 25 | K38: 10 | AA38: =SUM(B38:Z38) -> 120
A39: Klassieker | B39: 1 | C39: 2 | D39: 3 | E39: 4 | F39: 5 | G39: 6 | H39: 7 | I39: 8 | J39: 9 | K39: 10 | L39: 11 | M39: 12 | N39: 13 | O39: 14 | P39: 15 | Q39: 16 | R39: 17 | S39: 18 | T39: 19 | U39: 20 | V39: 21 | W39: 22 | X39: 23 | Y39: 24 | Z39: 25 | AA39: Totaal
A40: Worldtour Klassieker | B40: 0 | C40: 0 | D40: 0 | E40: 0 | F40: 0 | G40: 0 | H40: 0 | I40: 15 | J40: 30 | K40: 40 | L40: 60 | M40: 80 | N40: 160 | O40: 140 | P40: 120 | Q40: 100 | R40: 80 | S40: 60 | T40: 50 | U40: 40 | V40: 30 | W40: 20 | AA40: =SUM(B40:Z40) -> 1025
A41: Worldtour Eendaags | B41: 0 | C41: 0 | D41: 0 | E41: 0 | F41: 0 | G41: 10 | H41: 20 | I41: 30 | J41: 40 | K41: 50 | L41: 100 | M41: 90 | N41: 80 | O41: 70 | P41: 60 | Q41: 50 | R41: 40 | S41: 30 | T41: 20 | U41: 10 | AA41: =SUM(B41:Z41) -> 700
A42: HC Semi Klassieker | B42: 0 | C42: 0 | D42: 0 | E42: 0 | F42: 10 | G42: 20 | H42: 30 | I42: 60 | J42: 40 | K42: 20 | AA42: =SUM(B42:Z42) -> 180
A43: HC Eendaags | B43: 0 | C43: 0 | D43: 0 | E43: 10 | F43: 25 | G43: 50 | H43: 35 | I43: 20 | J43: 10 | K43: 5 | AA43: =SUM(B43:Z43) -> 155
A44: WK/OS Wegrit | B44: 0 | C44: 0 | D44: 0 | E44: 0 | F44: 0 | G44: 0 | H44: 0 | I44: 0 | J44: 0 | K44: 0 | L44: 20 | M44: 40 | N44: 60 | O44: 80 | P44: 100 | Q44: 200 | R44: 180 | S44: 160 | T44: 140 | U44: 120 | V44: 100 | W44: 80 | X44: 60 | Y44: 40 | Z44: 20 | AA44: =SUM(B44:Z44) -> 1400
A45: WK/OS Tijdrit | B45: 0 | C45: 0 | D45: 0 | E45: 0 | F45: 0 | G45: 10 | H45: 20 | I45: 30 | J45: 50 | K45: 70 | L45: 140 | M45: 120 | N45: 100 | O45: 80 | P45: 60 | Q45: 50 | R45: 40 | S45: 30 | T45: 20 | U45: 10 | AA45: =SUM(B45:Z45) -> 830
A46: EK Wegrit | B46: 0 | C46: 0 | D46: 0 | E46: 0 | F46: 0 | G46: 10 | H46: 20 | I46: 30 | J46: 50 | K46: 70 | L46: 140 | M46: 120 | N46: 100 | O46: 80 | P46: 60 | Q46: 50 | R46: 40 | S46: 30 | T46: 20 | U46: 10 | AA46: =SUM(B46:Z46) -> 830
A47: EK Tijdrit | B47: 0 | C47: 0 | D47: 0 | E47: 0 | F47: 10 | G47: 20 | H47: 30 | I47: 60 | J47: 40 | K47: 20 | AA47: =SUM(B47:Z47) -> 180
A48: Etappe | B48: 1 | C48: 2 | D48: 3 | E48: 4 | F48: 5 | G48: 6 | H48: 7 | I48: 8 | J48: 9 | K48: 10 | L48: 11 | M48: 12 | N48: 13 | O48: 14 | P48: 15 | Q48: 16 | R48: 17 | S48: 18 | T48: 19 | U48: 20 | V48: 21 | W48: 22 | X48: 23 | Y48: 24 | Z48: 25 | AA48: Totaal
A49: Tour de France | B49: 0 | C49: 0 | D49: 0 | E49: 0 | F49: 0 | G49: 0 | H49: 0 | I49: 10 | J49: 20 | K49: 30 | L49: 60 | M49: 50 | N49: 40 | O49: 30 | P49: 20 | AA49: =SUM(B49:Z49) -> 260
A50: Giro/Vuelta | B50: 0 | C50: 0 | D50: 0 | E50: 0 | F50: 0 | G50: 0 | H50: 0 | I50: 10 | J50: 15 | K50: 25 | L50: 50 | M50: 40 | N50: 30 | O50: 20 | P50: 10 | AA50: =SUM(B50:Z50) -> 200
A51: Worldtour Super Ronde | B51: 0 | C51: 0 | D51: 0 | E51: 5 | F51: 10 | G51: 20 | H51: 40 | I51: 30 | J51: 20 | K51: 10 | AA51: =SUM(B51:Z51) -> 135
A52: Worldtour Ronde | B52: 0 | C52: 0 | D52: 0 | E52: 5 | F52: 15 | G52: 30 | H52: 20 | I52: 10 | AA52: =SUM(B52:Z52) -> 80
A53: HC Ronde | B53: 0 | C53: 0 | D53: 0 | E53: 10 | F53: 5 | AA53: =SUM(B53:Z53) -> 15
A55: Verdeling | B55: ``Pot``
A56: 1e | B56: 0.2
A57: 2e | B57: 0.17
A58: 3e | B58: 0.15
A59: 4e | B59: 0.12
A60: 5e | B60: 0.1
A61: 6e | B61: 0.08
A62: 7e | B62: 0.06
A63: 8e | B63: 0.05
A64: 9e | B64: 0.04
A65: 10e | B65: 0.03 | C65: =SUM(B56:B65) -> 1
A67: Uitgifte Indicator
A68: Aantal Wed | B68: Categorie | D68: Etappes | E68: Totaal etp | F68: Totaal PW | G68: Eind | H68: Etappe | I68: Totaal
A69: =COUNTIF(Kalender2024!$D:$D,B69) -> 6 | B69: Worldtour Klassieker | D69: =SUMIF(Kalender2024!$D:$D,$B69,Kalender2024!$E:$E) -> 0 | E69: =IFERROR(VLOOKUP($B69,$A$19:$Q$23,17,FALSE),0) -> 0 | F69: =IFERROR(VLOOKUP($B69,$A$4:$Q$17,17,FALSE),0) -> 12.25 | G69: =A69*F69 -> 73.5 | H69: =D69*E69 -> 0 | I69: =G69+H69 -> 73.5
A70: =COUNTIF(Kalender2024!$D:$D,B70) -> 4 | B70: Worldtour Super Ronde | D70: =SUMIF(Kalender2024!$D:$D,$B70,Kalender2024!$E:$E) -> 31 | E70: =IFERROR(VLOOKUP($B70,$A$19:$Q$23,17,FALSE),0) -> 2.2 | F70: =IFERROR(VLOOKUP($B70,$A$4:$Q$17,17,FALSE),0) -> 12.25 | G70: =A70*F70 -> 49 | H70: =D70*E70 -> 68.2 | I70: =G70+H70 -> 117.2
A71: =COUNTIF(Kalender2024!$D:$D,B71) -> 8 | B71: Worldtour Ronde | D71: =SUMIF(Kalender2024!$D:$D,$B71,Kalender2024!$E:$E) -> 50 | E71: =IFERROR(VLOOKUP($B71,$A$19:$Q$23,17,FALSE),0) -> 1.55 | F71: =IFERROR(VLOOKUP($B71,$A$4:$Q$17,17,FALSE),0) -> 7.55 | G71: =A71*F71 -> 60.4 | H71: =D71*E71 -> 77.5 | I71: =G71+H71 -> 137.9
A72: =COUNTIF(Kalender2024!$D:$D,B72) -> 14 | B72: Worldtour Eendaags | D72: =SUMIF(Kalender2024!$D:$D,$B72,Kalender2024!$E:$E) -> 0 | E72: =IFERROR(VLOOKUP($B72,$A$19:$Q$23,17,FALSE),0) -> 0 | F72: =IFERROR(VLOOKUP($B72,$A$4:$Q$17,17,FALSE),0) -> 7.55 | G72: =A72*F72 -> 105.7 | H72: =D72*E72 -> 0 | I72: =G72+H72 -> 105.7
A73: =COUNTIF(Kalender2024!$D:$D,B73) -> 7 | B73: HC Semi Klassieker | D73: =SUMIF(Kalender2024!$D:$D,$B73,Kalender2024!$E:$E) -> 0 | E73: =IFERROR(VLOOKUP($B73,$A$19:$Q$23,17,FALSE),0) -> 0 | F73: =IFERROR(VLOOKUP($B73,$A$4:$Q$17,17,FALSE),0) -> 4.2 | G73: =A73*F73 -> 29.4 | H73: =D73*E73 -> 0 | I73: =G73+H73 -> 29.4
A74: =COUNTIF(Kalender2024!$D:$D,B74) -> 16 | B74: HC Eendaags | D74: =SUMIF(Kalender2024!$D:$D,$B74,Kalender2024!$E:$E) -> 0 | E74: =IFERROR(VLOOKUP($B74,$A$19:$Q$23,17,FALSE),0) -> 0 | F74: =IFERROR(VLOOKUP($B74,$A$4:$Q$17,17,FALSE),0) -> 2.2 | G74: =A74*F74 -> 35.2 | H74: =D74*E74 -> 0 | I74: =G74+H74 -> 35.2
A75: =COUNTIF(Kalender2024!$D:$D,B75) -> 13 | B75: HC Ronde | D75: =SUMIF(Kalender2024!$D:$D,$B75,Kalender2024!$E:$E) -> 63 | E75: =IFERROR(VLOOKUP($B75,$A$19:$Q$23,17,FALSE),0) -> 0.6 | F75: =IFERROR(VLOOKUP($B75,$A$4:$Q$17,17,FALSE),0) -> 2.85 | G75: =A75*F75 -> 37.05 | H75: =D75*E75 -> 37.8 | I75: =G75+H75 -> 74.85
A76: =COUNTIF(Kalender2024!$D:$D,B76) -> 1 | B76: Tour | D76: =SUMIF(Kalender2024!$D:$D,$B76,Kalender2024!$E:$E) -> 21 | E76: =IFERROR(VLOOKUP($B76,$A$19:$Q$23,17,FALSE),0) -> 4.3 | F76: =IFERROR(VLOOKUP($B76,$A$4:$Q$17,17,FALSE),0) -> 37.6 | G76: =A76*F76 -> 37.6 | H76: =D76*E76 -> 90.3 | I76: =G76+H76 -> 127.9
A77: =COUNTIF(Kalender2024!$D:$D,B77) -> 2 | B77: Giro/Vuelta | D77: =SUMIF(Kalender2024!$D:$D,$B77,Kalender2024!$E:$E) -> 42 | E77: =IFERROR(VLOOKUP($B77,$A$19:$Q$23,17,FALSE),0) -> 3.7 | F77: =IFERROR(VLOOKUP($B77,$A$4:$Q$17,17,FALSE),0) -> 30.65 | G77: =A77*F77 -> 61.3 | H77: =D77*E77 -> 155.4 | I77: =G77+H77 -> 216.7
A78: =COUNTIF(Kalender2024!$D:$D,B78) -> 2 | B78: WK/OS Wegrit | D78: =SUMIF(Kalender2024!$D:$D,$B78,Kalender2024!$E:$E) -> 0 | E78: =IFERROR(VLOOKUP($B78,$A$19:$Q$23,17,FALSE),0) -> 0 | F78: =IFERROR(VLOOKUP($B78,$A$4:$Q$17,17,FALSE),0) -> 18.35 | G78: =A78*F78 -> 36.7 | H78: =D78*E78 -> 0 | I78: =G78+H78 -> 36.7
A79: =COUNTIF(Kalender2024!$D:$D,B79) -> 2 | B79: WK/OS Tijdrit | D79: =SUMIF(Kalender2024!$D:$D,$B79,Kalender2024!$E:$E) -> 0 | E79: =IFERROR(VLOOKUP($B79,$A$19:$Q$23,17,FALSE),0) -> 0 | F79: =IFERROR(VLOOKUP($B79,$A$4:$Q$17,17,FALSE),0) -> 10.65 | G79: =A79*F79 -> 21.3 | H79: =D79*E79 -> 0 | I79: =G79+H79 -> 21.3
A80: =COUNTIF(Kalender2024!$D:$D,B80) -> 1 | B80: EK Wegrit | D80: =SUMIF(Kalender2024!$D:$D,$B80,Kalender2024!$E:$E) -> 0 | E80: =IFERROR(VLOOKUP($B80,$A$19:$Q$23,17,FALSE),0) -> 0 | F80: =IFERROR(VLOOKUP($B80,$A$4:$Q$17,17,FALSE),0) -> 8.85 | G80: =A80*F80 -> 8.85 | H80: =D80*E80 -> 0 | I80: =G80+H80 -> 8.85
A81: =COUNTIF(Kalender2024!$D:$D,B81) -> 1 | B81: EK Tijdrit | D81: =SUMIF(Kalender2024!$D:$D,$B81,Kalender2024!$E:$E) -> 0 | E81: =IFERROR(VLOOKUP($B81,$A$19:$Q$23,17,FALSE),0) -> 0 | F81: =IFERROR(VLOOKUP($B81,$A$4:$Q$17,17,FALSE),0) -> 4.8 | G81: =A81*F81 -> 4.8 | H81: =D81*E81 -> 0 | I81: =G81+H81 -> 4.8
B82: Truien | D82: =SUMIF(Kalender2024!$D:$D,$B82,Kalender2024!$E:$E) -> 0 | E82: =IFERROR(VLOOKUP($B82,$A$19:$Q$23,17,FALSE),0) -> 0 | F82: =IFERROR(VLOOKUP($B82,$A$4:$Q$17,17,FALSE),0) -> 0 | G82: =SUM(Kalender2024!I4:I92) -> 10 | H82: =D82*E82 -> 0 | I82: =G82+H82 -> 10
A84: =SUM(A69:A82) -> 77 | B84: 20 ploegleiders : | D84: 1000 | G84: =SUM(G69:G82) -> 570.8 | H84: =SUM(H69:H82) -> 429.2 | I84: =SUM(I69:I82) -> 1000

Sheet Kalender2024
A1: Start | B1: Einde | C1: Naam | D1: Subcategorie | E1: # etappes | G1: AK | H1: Etappes | I1: Truien | J1: Totaal | K1: Categorie
A2: 45307 | B2: 45312 | C2: Santos Tour Down Under | D2: Worldtour Ronde | E2: 6 | G2: =VLOOKUP($D2,'Prijslijst2024 - 20 deelnemers'!$A$4:$Q$17,17,FALSE) -> 7.55 | H2: =IFERROR(VLOOKUP($D2,'Prijslijst2024 - 20 deelnemers'!$A$19:$Q$23,17,FALSE)*E2,0) -> 9.3 | J2: =SUM(G2:I2) -> 16.85 | K2: Ronde
A3: 45319 | B3: 45319 | C3: Cadel Evans Great Ocean Road Race | D3: Worldtour Eendaags | G3: =VLOOKUP($D3,'Prijslijst2024 - 20 deelnemers'!$A$4:$Q$17,17,FALSE) -> 7.55 | H3: =IFERROR(VLOOKUP($D3,'Prijslijst2024 - 20 deelnemers'!$A$19:$Q$23,17,FALSE)*E3,0) -> 0 | J3: =SUM(G3:I3) -> 7.55 | K3: Eendaags
A4: 44227 | B4: 44231 | C4: Volta a la Comunitat Valenciana | D4: HC Ronde | E4: 5 | G4: =VLOOKUP($D4,'Prijslijst2024 - 20 deelnemers'!$A$4:$Q$17,17,FALSE) -> 2.85 | H4: =IFERROR(VLOOKUP($D4,'Prijslijst2024 - 20 deelnemers'!$A$19:$Q$23,17,FALSE)*E4,0) -> 3 | J4: =SUM(G4:I4) -> 5.85 | K4: Ronde
A5: 44227 | B5: 44231 | C5: Etoile de Bessèges - Tour du Gard | D5: HC Ronde | E5: 5 | G5: =VLOOKUP($D5,'Prijslijst2024 - 20 deelnemers'!$A$4:$Q$17,17,FALSE) -> 2.85 | H5: =IFERROR(VLOOKUP($D5,'Prijslijst2024 - 20 deelnemers'!$A$19:$Q$23,17,FALSE)*E5,0) -> 3 | J5: =SUM(G5:I5) -> 5.85 | K5: Ronde
A7: 45330 | B7: 45333 | C7: Tour de la Provence | D7: HC Ronde | E7: 4 | G7: =VLOOKUP($D7,'Prijslijst2024 - 20 deelnemers'!$A$4:$Q$17,17,FALSE) -> 2.85 | H7: =IFERROR(VLOOKUP($D7,'Prijslijst2024 - 20 deelnemers'!$A$19:$Q$23,17,FALSE)*E7,0) -> 2.4 | J7: =SUM(G7:I7) -> 5.25 | K7: Ronde
A8: 45332 | B8: 45336 | C8: Tour of Oman | D8: HC Ronde | E8: 5 | G8: =VLOOKUP($D8,'Prijslijst2024 - 20 deelnemers'!$A$4:$Q$17,17,FALSE) -> 2.85 | H8: =IFERROR(VLOOKUP($D8,'Prijslijst2024 - 20 deelnemers'!$A$19:$Q$23,17,FALSE)*E8,0) -> 3 | J8: =SUM(G8:I8) -> 5.85 | K8: Ronde
A9: 45336 | B9: 45340 | C9: Volta ao Algarve em Bicicleta | D9: HC Ronde | E9: 5 | G9: =VLOOKUP($D9,'Prijslijst2024 - 20 deelnemers'!$A$4:$Q$17,17,FALSE) -> 2.85 | H9: =IFERROR(VLOOKUP($D9,'Prijslijst2024 - 20 deelnemers'!$A$19:$Q$23,17,FALSE)*E9,0) -> 3 | J9: =SUM(G9:I9) -> 5.85 | K9: Ronde
A10: 45336 | B10: 45340 | C10: Vuelta a Andalucia Ruta Ciclista Del Sol | D10: HC Ronde | E10: 5 | G10: =VLOOKUP($D10,'Prijslijst2024 - 20 deelnemers'!$A$4:$Q$17,17,FALSE) -> 2.85 | H10: =IFERROR(VLOOKUP($D10,'Prijslijst2024 - 20 deelnemers'!$A$19:$Q$23,17,FALSE)*E10,0) -> 3 | J10: =SUM(G10:I10) -> 5.85 | K10: Ronde
A11: 45341 | B11: 45347 | C11: UAE Tour | D11: Worldtour Ronde | E11: 7 | G11: =VLOOKUP($D11,'Prijslijst2024 - 20 deelnemers'!$A$4:$Q$17,17,FALSE) -> 7.55 | H11: =IFERROR(VLOOKUP($D11,'Prijslijst2024 - 20 deelnemers'!$A$19:$Q$23,17,FALSE)*E11,0) -> 10.85 | J11: =SUM(G11:I11) -> 18.4 | K11: Ronde
A12: 45346 | B12: 45346 | C12: Omloop Het Nieuwsblad | D12: Worldtour Eendaags | G12: =VLOOKUP($D12,'Prijslijst2024 - 20 deelnemers'!$A$4:$Q$17,17,FALSE) -> 7.55 | H12: =IFERROR(VLOOKUP($D12,'Prijslijst2024 - 20 deelnemers'!$A$19:$Q$23,17,FALSE)*E12,0) -> 0 | J12: =SUM(G12:I12) -> 7.55 | K12: Eendaags
A13: 45346 | B13: 45346 | C13: Faun-Ardèche Classic | D13: HC Eendaags | G13: =VLOOKUP($D13,'Prijslijst2024 - 20 deelnemers'!$A$4:$Q$17,17,FALSE) -> 2.2 | H13: =IFERROR(VLOOKUP($D13,'Prijslijst2024 - 20 deelnemers'!$A$19:$Q$23,17,FALSE)*E13,0) -> 0 | J13: =SUM(G13:I13) -> 2.2 | K13: Eendaags
A14: 45347 | B14: 45347 | C14: Kuurne-Bruxelles-Kuurne | D14: HC Semi Klassieker | G14: =VLOOKUP($D14,'Prijslijst2024 - 20 deelnemers'!$A$4:$Q$17,17,FALSE) -> 4.2 | H14: =IFERROR(VLOOKUP($D14,'Prijslijst2024 - 20 deelnemers'!$A$19:$Q$23,17,FALSE)*E14,0) -> 0 | J14: =SUM(G14:I14) -> 4.2 | K14: Eendaags
A15: 45347 | B15: 45347 | C15: Faun Drome Classic | D15: HC Eendaags | G15: =VLOOKUP($D15,'Prijslijst2024 - 20 deelnemers'!$A$4:$Q$17,17,FALSE) -> 2.2 | H15: =IFERROR(VLOOKUP($D15,'Prijslijst2024 - 20 deelnemers'!$A$19:$Q$23,17,FALSE)*E15,0) -> 0 | J15: =SUM(G15:I15) -> 2.2 | K15: Eendaags
A16: 45349 | B16: 45349 | C16: Le Samyn | D16: HC Eendaags | G16: =VLOOKUP($D16,'Prijslijst2024 - 20 deelnemers'!$A$4:$Q$17,17,FALSE) -> 2.2 | H16: =IFERROR(VLOOKUP($D16,'Prijslijst2024 - 20 deelnemers'!$A$19:$Q$23,17,FALSE)*E16,0) -> 0 | J16: =SUM(G16:I16) -> 2.2 | K16: Eendaags
A17: 45350 | B17: 45350 | C17: Trofeo Laigueglia | D17: HC Eendaags | G17: =VLOOKUP($D17,'Prijslijst2024 - 20 deelnemers'!$A$4:$Q$17,17,FALSE) -> 2.2 | H17: =IFERROR(VLOOKUP($D17,'Prijslijst2024 - 20 deelnemers'!$A$19:$Q$23,17,FALSE)*E17,0) -> 0 | J17: =SUM(G17:I17) -> 2.2 | K17: Eendaags
A19: 45353 | B19: 45353 | C19: Strade Bianche | D19: Worldtour Eendaags | G19: =VLOOKUP($D19,'Prijslijst2024 - 20 deelnemers'!$A$4:$Q$17,17,FALSE) -> 7.55 | H19: =IFERROR(VLOOKUP($D19,'Prijslijst2024 - 20 deelnemers'!$A$19:$Q$23,17,FALSE)*E19,0) -> 0 | J19: =SUM(G19:I19) -> 7.55 | K19: Eendaags
A20: 45354 | B20: 45361 | C20: Paris-Nice | D20: Worldtour Super Ronde | E20: 8 | G20: =VLOOKUP($D20,'Prijslijst2024 - 20 deelnemers'!$A$4:$Q$17,17,FALSE) -> 12.25 | H20: =IFERROR(VLOOKUP($D20,'Prijslijst2024 - 20 deelnemers'!$A$19:$Q$23,17,FALSE)*E20,0) -> 17.6 | J20: =SUM(G20:I20) -> 29.85 | K20: Ronde
A21: 45355 | B21: 45361 | C21: Tirreno-Adriatico | D21: Worldtour Super Ronde | E21: 7 | G21: =VLOOKUP($D21,'Prijslijst2024 - 20 deelnemers'!$A$4:$Q$17,17,FALSE) -> 12.25 | H21: =IFERROR(VLOOKUP($D21,'Prijslijst2024 - 20 deelnemers'!$A$19:$Q$23,17,FALSE)*E21,0) -> 15.4 | J21: =SUM(G21:I21) -> 27.65 | K21: Ronde
A22: 45364 | B22: 45364 | C22: Danilith Nokere Koerse | D22: HC Eendaags | G22: =VLOOKUP($D22,'Prijslijst2024 - 20 deelnemers'!$A$4:$Q$17,17,FALSE) -> 2.2 | H22: =IFERROR(VLOOKUP($D22,'Prijslijst2024 - 20 deelnemers'!$A$19:$Q$23,17,FALSE)*E22,0) -> 0 | J22: =SUM(G22:I22) -> 2.2 | K22: Eendaags
A23: 45364 | B23: 45364 | C23: Milano-Torino | D23: HC Semi Klassieker | G23: =VLOOKUP($D23,'Prijslijst2024 - 20 deelnemers'!$A$4:$Q$17,17,FALSE) -> 4.2 | H23: =IFERROR(VLOOKUP($D23,'Prijslijst2024 - 20 deelnemers'!$A$19:$Q$23,17,FALSE)*E23,0) -> 0 | J23: =SUM(G23:I23) -> 4.2 | K23: Eendaags
A24: 45367 | B24: 45367 | C24: Milano-Sanremo | D24: Worldtour Klassieker | G24: =VLOOKUP($D24,'Prijslijst2024 - 20 deelnemers'!$A$4:$Q$17,17,FALSE) -> 12.25 | H24: =IFERROR(VLOOKUP($D24,'Prijslijst2024 - 20 deelnemers'!$A$19:$Q$23,17,FALSE)*E24,0) -> 0 | J24: =SUM(G24:I24) -> 12.25 | K24: Eendaags
A25: 45369 | B25: 45375 | C25: Volta Ciclista a Catalunya | D25: Worldtour Ronde | E25: 7 | G25: =VLOOKUP($D25,'Prijslijst2024 - 20 deelnemers'!$A$4:$Q$17,17,FALSE) -> 7.55 | H25: =IFERROR(VLOOKUP($D25,'Prijslijst2024 - 20 deelnemers'!$A$19:$Q$23,17,FALSE)*E25,0) -> 10.85 | J25: =SUM(G25:I25) -> 18.4 | K25: Ronde
A26: 45371 | B26: 45371 | C26: Classic Brugge-De Panne | D26: Worldtour Eendaags | G26: =VLOOKUP($D26,'Prijslijst2024 - 20 deelnemers'!$A$4:$Q$17,17,FALSE) -> 7.55 | H26: =IFERROR(VLOOKUP($D26,'Prijslijst2024 - 20 deelnemers'!$A$19:$Q$23,17,FALSE)*E26,0) -> 0 | J26: =SUM(G26:I26) -> 7.55 | K26: Eendaags
A27: 45373 | B27: 45373 | C27: E3 Saxo Bank Classic | D27: Worldtour Eendaags | G27: =VLOOKUP($D27,'Prijslijst2024 - 20 deelnemers'!$A$4:$Q$17,17,FALSE) -> 7.55 | H27: =IFERROR(VLOOKUP($D27,'Prijslijst2024 - 20 deelnemers'!$A$19:$Q$23,17,FALSE)*E27,0) -> 0 | J27: =SUM(G27:I27) -> 7.55 | K27: Eendaags
A28: 45375 | B28: 45375 | C28: Gent-Wevelgem in Flanders Fields | D28: Worldtour Eendaags | G28: =VLOOKUP($D28,'Prijslijst2024 - 20 deelnemers'!$A$4:$Q$17,17,FALSE) -> 7.55 | H28: =IFERROR(VLOOKUP($D28,'Prijslijst2024 - 20 deelnemers'!$A$19:$Q$23,17,FALSE)*E28,0) -> 0 | J28: =SUM(G28:I28) -> 7.55 | K28: Eendaags
A29: 45378 | B29: 45378 | C29: Dwars door Vlaanderen | D29: Worldtour Eendaags | G29: =VLOOKUP($D29,'Prijslijst2024 - 20 deelnemers'!$A$4:$Q$17,17,FALSE) -> 7.55 | H29: =IFERROR(VLOOKUP($D29,'Prijslijst2024 - 20 deelnemers'!$A$19:$Q$23,17,FALSE)*E29,0) -> 0 | J29: =SUM(G29:I29) -> 7.55 | K29: Eendaags
A30: 45381 | B30: 45381 | C30: Gran Premio Miguel Indurain | D30: HC Eendaags | G30: =VLOOKUP($D30,'Prijslijst2024 - 20 deelnemers'!$A$4:$Q$17,17,FALSE) -> 2.2 | H30: =IFERROR(VLOOKUP($D30,'Prijslijst2024 - 20 deelnemers'!$A$19:$Q$23,17,FALSE)*E30,0) -> 0 | J30: =SUM(G30:I30) -> 2.2 | K30: Eendaags
A31: 45382 | B31: 45382 | C31: Ronde van Vlaanderen | D31: Worldtour Klassieker | G31: =VLOOKUP($D31,'Prijslijst2024 - 20 deelnemers'!$A$4:$Q$17,17,FALSE) -> 12.25 | H31: =IFERROR(VLOOKUP($D31,'Prijslijst2024 - 20 deelnemers'!$A$19:$Q$23,17,FALSE)*E31,0) -> 0 | J31: =SUM(G31:I31) -> 12.25 | K31: Eendaags
A33: 45383 | B33: 45388 | C33: Itzulia Basque Country | D33: Worldtour Ronde | E33: 6 | G33: =VLOOKUP($D33,'Prijslijst2024 - 20 deelnemers'!$A$4:$Q$17,17,FALSE) -> 7.55 | H33: =IFERROR(VLOOKUP($D33,'Prijslijst2024 - 20 deelnemers'!$A$19:$Q$23,17,FALSE)*E33,0) -> 9.3 | J33: =SUM(G33:I33) -> 16.85 | K33: Ronde
A34: 45385 | B34: 45385 | C34: Scheldeprijs | D34: HC Semi Klassieker | G34: =VLOOKUP($D34,'Prijslijst2024 - 20 deelnemers'!$A$4:$Q$17,17,FALSE) -> 4.2 | H34: =IFERROR(VLOOKUP($D34,'Prijslijst2024 - 20 deelnemers'!$A$19:$Q$23,17,FALSE)*E34,0) -> 0 | J34: =SUM(G34:I34) -> 4.2 | K34: Eendaags
A35: 45389 | B35: 45389 | C35: Parijs-Roubaix | D35: Worldtour Klassieker | G35: =VLOOKUP($D35,'Prijslijst2024 - 20 deelnemers'!$A$4:$Q$17,17,FALSE) -> 12.25 | H35: =IFERROR(VLOOKUP($D35,'Prijslijst2024 - 20 deelnemers'!$A$19:$Q$23,17,FALSE)*E35,0) -> 0 | J35: =SUM(G35:I35) -> 12.25 | K35: Eendaags
A36: 45392 | B36: 45392 | C36: De Brabantse Pijl | D36: HC Semi Klassieker | G36: =VLOOKUP($D36,'Prijslijst2024 - 20 deelnemers'!$A$4:$Q$17,17,FALSE) -> 4.2 | H36: =IFERROR(VLOOKUP($D36,'Prijslijst2024 - 20 deelnemers'!$A$19:$Q$23,17,FALSE)*E36,0) -> 0 | J36: =SUM(G36:I36) -> 4.2 | K36: Eendaags
A37: 45396 | B37: 45396 | C37: Amstel Gold Race | D37: Worldtour Klassieker | G37: =VLOOKUP($D37,'Prijslijst2024 - 20 deelnemers'!$A$4:$Q$17,17,FALSE) -> 12.25 | H37: =IFERROR(VLOOKUP($D37,'Prijslijst2024 - 20 deelnemers'!$A$19:$Q$23,17,FALSE)*E37,0) -> 0 | J37: =SUM(G37:I37) -> 12.25 | K37: Eendaags
A38: 45397 | B38: 45401 | C38: Tour of the Alps | D38: HC Ronde | E38: 5 | G38: =VLOOKUP($D38,'Prijslijst2024 - 20 deelnemers'!$A$4:$Q$17,17,FALSE) -> 2.85 | H38: =IFERROR(VLOOKUP($D38,'Prijslijst2024 - 20 deelnemers'!$A$19:$Q$23,17,FALSE)*E38,0) -> 3 | J38: =SUM(G38:I38) -> 5.85 | K38: Ronde
A39: 45399 | B39: 45399 | C39: La Flèche Wallonne | D39: Worldtour Eendaags | G39: =VLOOKUP($D39,'Prijslijst2024 - 20 deelnemers'!$A$4:$Q$17,17,FALSE) -> 7.55 | H39: =IFERROR(VLOOKUP($D39,'Prijslijst2024 - 20 deelnemers'!$A$19:$Q$23,17,FALSE)*E39,0) -> 0 | J39: =SUM(G39:I39) -> 7.55 | K39: Eendaags
A40: 45403 | B40: 45403 | C40: Liège-Bastogne-Liège | D40: Worldtour Klassieker | G40: =VLOOKUP($D40,'Prijslijst2024 - 20 deelnemers'!$A$4:$Q$17,17,FALSE) -> 12.25 | H40: =IFERROR(VLOOKUP($D40,'Prijslijst2024 - 20 deelnemers'!$A$19:$Q$23,17,FALSE)*E40,0) -> 0 | J40: =SUM(G40:I40) -> 12.25 | K40: Eendaags
A41: 45405 | B41: 45410 | C41: Tour de Romandie | D41: Worldtour Ronde | E41: 6 | G41: =VLOOKUP($D41,'Prijslijst2024 - 20 deelnemers'!$A$4:$Q$17,17,FALSE) -> 7.55 | H41: =IFERROR(VLOOKUP($D41,'Prijslijst2024 - 20 deelnemers'!$A$19:$Q$23,17,FALSE)*E41,0) -> 9.3 | J41: =SUM(G41:I41) -> 16.85 | K41: Ronde
A43: 45413 | B43: 45413 | C43: Eschborn-Frankfurt | D43: Worldtour Eendaags | G43: =VLOOKUP($D43,'Prijslijst2024 - 20 deelnemers'!$A$4:$Q$17,17,FALSE) -> 7.55 | H43: =IFERROR(VLOOKUP($D43,'Prijslijst2024 - 20 deelnemers'!$A$19:$Q$23,17,FALSE)*E43,0) -> 0 | J43: =SUM(G43:I43) -> 7.55 | K43: Eendaags
A44: 45416 | B44: 45438 | C44: Giro d'Italia | D44: Giro/Vuelta | E44: 21 | G44: =VLOOKUP($D44,'Prijslijst2024 - 20 deelnemers'!$A$4:$Q$17,17,FALSE) -> 30.65 | H44: =IFERROR(VLOOKUP($D44,'Prijslijst2024 - 20 deelnemers'!$A$19:$Q$23,17,FALSE)*E44,0) -> 77.7 | I44: ='Prijslijst2024 - 20 deelnemers'!$Q$27+'Prijslijst2024 - 20 deelnemers'!$Q$28 -> 2 | J44: =SUM(G44:I44) -> 110.35 | K44: Ronde
A45: 45417 | B45: 45417 | C45: Tro-Bro Léon | D45: HC Eendaags | G45: =VLOOKUP($D45,'Prijslijst2024 - 20 deelnemers'!$A$4:$Q$17,17,FALSE) -> 2.2 | H45: =IFERROR(VLOOKUP($D45,'Prijslijst2024 - 20 deelnemers'!$A$19:$Q$23,17,FALSE)*E45,0) -> 0 | J45: =SUM(G45:I45) -> 2.2 | K45: Eendaags
A46: 45435 | B46: 45438 | C46: Tour of Norway | D46: HC Ronde | E46: 4 | G46: =VLOOKUP($D46,'Prijslijst2024 - 20 deelnemers'!$A$4:$Q$17,17,FALSE) -> 2.85 | H46: =IFERROR(VLOOKUP($D46,'Prijslijst2024 - 20 deelnemers'!$A$19:$Q$23,17,FALSE)*E46,0) -> 2.4 | J46: =SUM(G46:I46) -> 5.25 | K46: Ronde
A48: 45445 | B48: 45445 | C48: Brussels Cycling Classic | D48: HC Eendaags | G48: =VLOOKUP($D48,'Prijslijst2024 - 20 deelnemers'!$A$4:$Q$17,17,FALSE) -> 2.2 | H48: =IFERROR(VLOOKUP($D48,'Prijslijst2024 - 20 deelnemers'!$A$19:$Q$23,17,FALSE)*E48,0) -> 0 | J48: =SUM(G48:I48) -> 2.2 | K48: Eendaags
A49: 45445 | B49: 45452 | C49: Critérium du Dauphiné | D49: Worldtour Super Ronde | E49: 8 | G49: =VLOOKUP($D49,'Prijslijst2024 - 20 deelnemers'!$A$4:$Q$17,17,FALSE) -> 12.25 | H49: =IFERROR(VLOOKUP($D49,'Prijslijst2024 - 20 deelnemers'!$A$19:$Q$23,17,FALSE)*E49,0) -> 17.6 | J49: =SUM(G49:I49) -> 29.85 | K49: Ronde
A50: 45452 | B50: 45459 | C50: Tour de Suisse | D50: Worldtour Super Ronde | E50: 8 | G50: =VLOOKUP($D50,'Prijslijst2024 - 20 deelnemers'!$A$4:$Q$17,17,FALSE) -> 12.25 | H50: =IFERROR(VLOOKUP($D50,'Prijslijst2024 - 20 deelnemers'!$A$19:$Q$23,17,FALSE)*E50,0) -> 17.6 | J50: =SUM(G50:I50) -> 29.85 | K50: Ronde
A51: 45455 | B51: 45459 | C51: Baloise Belgium Tour | D51: HC Ronde | E51: 5 | G51: =VLOOKUP($D51,'Prijslijst2024 - 20 deelnemers'!$A$4:$Q$17,17,FALSE) -> 2.85 | H51: =IFERROR(VLOOKUP($D51,'Prijslijst2024 - 20 deelnemers'!$A$19:$Q$23,17,FALSE)*E51,0) -> 3 | J51: =SUM(G51:I51) -> 5.85 | K51: Ronde
A52: 45466 | B52: 45466 | C52: Nationaal kampioenschap Nederland | D52: Nationaal kampioenschap | G52: 0 | H52: 0 | I52: ='Prijslijst2024 - 20 deelnemers'!$Q$29 -> 0.5 | J52: =SUM(G52:I52) -> 0.5 | K52: Eendaags
A53: 45466 | B53: 45466 | C53: Nationaal kampioenschap België | D53: Nationaal kampioenschap | G53: 0 | H53: 0 | I53: ='Prijslijst2024 - 20 deelnemers'!$Q$29 -> 0.5 | J53: =SUM(G53:I53) -> 0.5 | K53: Eendaags
A54: 45466 | B54: 45466 | C54: Nationaal kampioenschap Italië | D54: Nationaal kampioenschap | G54: 0 | H54: 0 | I54: ='Prijslijst2024 - 20 deelnemers'!$Q$29 -> 0.5 | J54: =SUM(G54:I54) -> 0.5 | K54: Eendaags
A55: 45466 | B55: 45466 | C55: Nationaal kampioenschap Frankrijk | D55: Nationaal kampioenschap | G55: 0 | H55: 0 | I55: ='Prijslijst2024 - 20 deelnemers'!$Q$29 -> 0.5 | J55: =SUM(G55:I55) -> 0.5 | K55: Eendaags
A56: 45466 | B56: 45466 | C56: Nationaal kampioenschap Spanje | D56: Nationaal kampioenschap | G56: 0 | H56: 0 | I56: ='Prijslijst2024 - 20 deelnemers'!$Q$29 -> 0.5 | J56: =SUM(G56:I56) -> 0.5 | K56: Eendaags
A57: 45466 | B57: 45466 | C57: Nationaal kampioenschap Duitsland | D57: Nationaal kampioenschap | G57: 0 | H57: 0 | I57: ='Prijslijst2024 - 20 deelnemers'!$Q$29 -> 0.5 | J57: =SUM(G57:I57) -> 0.5 | K57: Eendaags
A58: 45472 | B58: 45494 | C58: Tour de France | D58: Tour | E58: 21 | G58: =VLOOKUP($D58,'Prijslijst2024 - 20 deelnemers'!$A$4:$Q$17,17,FALSE) -> 37.6 | H58: =IFERROR(VLOOKUP($D58,'Prijslijst2024 - 20 deelnemers'!$A$19:$Q$23,17,FALSE)*E58,0) -> 90.3 | I58: ='Prijslijst2024 - 20 deelnemers'!$Q$25+'Prijslijst2024 - 20 deelnemers'!$Q$26 -> 3 | J58: =SUM(G58:I58) -> 130.9 | K58: Ronde
A60: 45500 | B60: 45500 | C60: OS Tijdrit | D60: WK/OS Wegrit | G60: =VLOOKUP($D60,'Prijslijst2024 - 20 deelnemers'!$A$4:$Q$17,17,FALSE) -> 18.35 | H60: =IFERROR(VLOOKUP($D60,'Prijslijst2024 - 20 deelnemers'!$A$19:$Q$23,17,FALSE)*E60,0) -> 0 | J60: =SUM(G60:I60) -> 18.35 | K60: Eendaags
A62: 45507 | B62: 45507 | C62: OS Wegrit | D62: WK/OS Tijdrit | G62: =VLOOKUP($D62,'Prijslijst2024 - 20 deelnemers'!$A$4:$Q$17,17,FALSE) -> 10.65 | H62: =IFERROR(VLOOKUP($D62,'Prijslijst2024 - 20 deelnemers'!$A$19:$Q$23,17,FALSE)*E62,0) -> 0 | J62: =SUM(G62:I62) -> 10.65 | K62: Tijdrit
A63: 45509 | B63: 45513 | C63: Vuelta a Burgos | D63: HC Ronde | E63: 5 | G63: =VLOOKUP($D63,'Prijslijst2024 - 20 deelnemers'!$A$4:$Q$17,17,FALSE) -> 2.85 | H63: =IFERROR(VLOOKUP($D63,'Prijslijst2024 - 20 deelnemers'!$A$19:$Q$23,17,FALSE)*E63,0) -> 3 | J63: =SUM(G63:I63) -> 5.85 | K63: Ronde
A64: 45514 | B64: 45514 | C64: Donostia San Sebastian Klasikoa | D64: Worldtour Eendaags | G64: =VLOOKUP($D64,'Prijslijst2024 - 20 deelnemers'!$A$4:$Q$17,17,FALSE) -> 7.55 | H64: =IFERROR(VLOOKUP($D64,'Prijslijst2024 - 20 deelnemers'!$A$19:$Q$23,17,FALSE)*E64,0) -> 0 | J64: =SUM(G64:I64) -> 7.55 | K64: Eendaags
A65: 45516 | B65: 45522 | C65: Tour de Pologne | D65: Worldtour Ronde | E65: 7 | G65: =VLOOKUP($D65,'Prijslijst2024 - 20 deelnemers'!$A$4:$Q$17,17,FALSE) -> 7.55 | H65: =IFERROR(VLOOKUP($D65,'Prijslijst2024 - 20 deelnemers'!$A$19:$Q$23,17,FALSE)*E65,0) -> 10.85 | J65: =SUM(G65:I65) -> 18.4 | K65: Ronde
A66: 45518 | B66: 45522 | C66: PostNord Denmark Rundt - Tour of Denmark | D66: HC Ronde | E66: 5 | G66: =VLOOKUP($D66,'Prijslijst2024 - 20 deelnemers'!$A$4:$Q$17,17,FALSE) -> 2.85 | H66: =IFERROR(VLOOKUP($D66,'Prijslijst2024 - 20 deelnemers'!$A$19:$Q$23,17,FALSE)*E66,0) -> 3 | J66: =SUM(G66:I66) -> 5.85 | K66: Ronde
A67: 45521 | B67: 45543 | C67: Vuelta a España | D67: Giro/Vuelta | E67: 21 | G67: =VLOOKUP($D67,'Prijslijst2024 - 20 deelnemers'!$A$4:$Q$17,17,FALSE) -> 30.65 | H67: =IFERROR(VLOOKUP($D67,'Prijslijst2024 - 20 deelnemers'!$A$19:$Q$23,17,FALSE)*E67,0) -> 77.7 | I67: ='Prijslijst2024 - 20 deelnemers'!$Q$27+'Prijslijst2024 - 20 deelnemers'!$Q$28 -> 2 | J67: =SUM(G67:I67) -> 110.35 | K67: Ronde
A68: 45525 | B68: 45529 | C68: Deutschland Tour | D68: HC Ronde | E68: 5 | G68: =VLOOKUP($D68,'Prijslijst2024 - 20 deelnemers'!$A$4:$Q$17,17,FALSE) -> 2.85 | H68: =IFERROR(VLOOKUP($D68,'Prijslijst2024 - 20 deelnemers'!$A$19:$Q$23,17,FALSE)*E68,0) -> 3 | J68: =SUM(G68:I68) -> 5.85 | K68: Ronde
A69: 45529 | B69: 45529 | C69: Bretagne Classic - Ouest-France | D69: Worldtour Eendaags | G69: =VLOOKUP($D69,'Prijslijst2024 - 20 deelnemers'!$A$4:$Q$17,17,FALSE) -> 7.55 | H69: =IFERROR(VLOOKUP($D69,'Prijslijst2024 - 20 deelnemers'!$A$19:$Q$23,17,FALSE)*E69,0) -> 0 | J69: =SUM(G69:I69) -> 7.55 | K69: Eendaags
A70: 45532 | B70: 45536 | C70: Renewi Tour | D70: Worldtour Ronde | E70: 5 | G70: =VLOOKUP($D70,'Prijslijst2024 - 20 deelnemers'!$A$4:$Q$17,17,FALSE) -> 7.55 | H70: =IFERROR(VLOOKUP($D70,'Prijslijst2024 - 20 deelnemers'!$A$19:$Q$23,17,FALSE)*E70,0) -> 7.75 | J70: =SUM(G70:I70) -> 15.3 | K70: Ronde
A72: 45543 | B72: 45543 | C72: BEMER Cyclassics | D72: Worldtour Eendaags | G72: =VLOOKUP($D72,'Prijslijst2024 - 20 deelnemers'!$A$4:$Q$17,17,FALSE) -> 7.55 | H72: =IFERROR(VLOOKUP($D72,'Prijslijst2024 - 20 deelnemers'!$A$19:$Q$23,17,FALSE)*E72,0) -> 0 | J72: =SUM(G72:I72) -> 7.55 | K72: Eendaags
A73: 45543 | B73: 45543 | C73: GP de Fourmies / La Voix du Nord | D73: HC Eendaags | G73: =VLOOKUP($D73,'Prijslijst2024 - 20 deelnemers'!$A$4:$Q$17,17,FALSE) -> 2.2 | H73: =IFERROR(VLOOKUP($D73,'Prijslijst2024 - 20 deelnemers'!$A$19:$Q$23,17,FALSE)*E73,0) -> 0 | J73: =SUM(G73:I73) -> 2.2 | K73: Eendaags
A74: 45543 | B74: 45543 | C74: GP Industria | D74: HC Eendaags | G74: =VLOOKUP($D74,'Prijslijst2024 - 20 deelnemers'!$A$4:$Q$17,17,FALSE) -> 2.2 | H74: =IFERROR(VLOOKUP($D74,'Prijslijst2024 - 20 deelnemers'!$A$19:$Q$23,17,FALSE)*E74,0) -> 0 | J74: =SUM(G74:I74) -> 2.2 | K74: Eendaags
A75: 45546 | B75: 45546 | C75: EK Tijdrit | D75: EK Tijdrit | G75: =VLOOKUP($D75,'Prijslijst2024 - 20 deelnemers'!$A$4:$Q$17,17,FALSE) -> 4.8 | H75: =IFERROR(VLOOKUP($D75,'Prijslijst2024 - 20 deelnemers'!$A$19:$Q$23,17,FALSE)*E75,0) -> 0 | J75: =SUM(G75:I75) -> 4.8 | K75: Tijdrit
A76: 45547 | B76: 45547 | C76: Gran Premio città di Peccioli - Coppa Sabatini | D76: HC Eendaags | G76: =VLOOKUP($D76,'Prijslijst2024 - 20 deelnemers'!$A$4:$Q$17,17,FALSE) -> 2.2 | H76: =IFERROR(VLOOKUP($D76,'Prijslijst2024 - 20 deelnemers'!$A$19:$Q$23,17,FALSE)*E76,0) -> 0 | J76: =SUM(G76:I76) -> 2.2 | K76: Eendaags
A77: 45548 | B77: 45548 | C77: Grand Prix Cycliste de Québec | D77: Worldtour Eendaags | G77: =VLOOKUP($D77,'Prijslijst2024 - 20 deelnemers'!$A$4:$Q$17,17,FALSE) -> 7.55 | H77: =IFERROR(VLOOKUP($D77,'Prijslijst2024 - 20 deelnemers'!$A$19:$Q$23,17,FALSE)*E77,0) -> 0 | J77: =SUM(G77:I77) -> 7.55 | K77: Eendaags
A78: 45550 | B78: 45550 | C78: Grand Prix Cycliste de Montréal | D78: Worldtour Eendaags | G78: =VLOOKUP($D78,'Prijslijst2024 - 20 deelnemers'!$A$4:$Q$17,17,FALSE) -> 7.55 | H78: =IFERROR(VLOOKUP($D78,'Prijslijst2024 - 20 deelnemers'!$A$19:$Q$23,17,FALSE)*E78,0) -> 0 | J78: =SUM(G78:I78) -> 7.55 | K78: Eendaags
A79: 45550 | B79: 45550 | C79: EK Wegrit | D79: EK Wegrit | G79: =VLOOKUP($D79,'Prijslijst2024 - 20 deelnemers'!$A$4:$Q$17,17,FALSE) -> 8.85 | H79: =IFERROR(VLOOKUP($D79,'Prijslijst2024 - 20 deelnemers'!$A$19:$Q$23,17,FALSE)*E79,0) -> 0 | J79: =SUM(G79:I79) -> 8.85 | K79: Eendaags
A80: 45553 | B80: 45553 | C80: Grand Prix de Wallonie | D80: HC Eendaags | G80: =VLOOKUP($D80,'Prijslijst2024 - 20 deelnemers'!$A$4:$Q$17,17,FALSE) -> 2.2 | H80: =IFERROR(VLOOKUP($D80,'Prijslijst2024 - 20 deelnemers'!$A$19:$Q$23,17,FALSE)*E80,0) -> 0 | J80: =SUM(G80:I80) -> 2.2 | K80: Eendaags
A81: 45553 | B81: 45557 | C81: Skoda Tour Luxembourg | D81: HC Ronde | E81: 5 | G81: =VLOOKUP($D81,'Prijslijst2024 - 20 deelnemers'!$A$4:$Q$17,17,FALSE) -> 2.85 | H81: =IFERROR(VLOOKUP($D81,'Prijslijst2024 - 20 deelnemers'!$A$19:$Q$23,17,FALSE)*E81,0) -> 3 | J81: =SUM(G81:I81) -> 5.85 | K81: Ronde
A82: 45556 | B82: 45556 | C82: Super 8 Classic | D82: HC Eendaags | G82: =VLOOKUP($D82,'Prijslijst2024 - 20 deelnemers'!$A$4:$Q$17,17,FALSE) -> 2.2 | H82: =IFERROR(VLOOKUP($D82,'Prijslijst2024 - 20 deelnemers'!$A$19:$Q$23,17,FALSE)*E82,0) -> 0 | J82: =SUM(G82:I82) -> 2.2 | K82: Eendaags
A83: 45557 | B83: 45557 | C83: WK Tijdrit | D83: WK/OS Wegrit | G83: =VLOOKUP($D83,'Prijslijst2024 - 20 deelnemers'!$A$4:$Q$17,17,FALSE) -> 18.35 | H83: =IFERROR(VLOOKUP($D83,'Prijslijst2024 - 20 deelnemers'!$A$19:$Q$23,17,FALSE)*E83,0) -> 0 | J83: =SUM(G83:I83) -> 18.35 | K83: Eendaags
A84: 45564 | B84: 45564 | C84: WK Wegrit | D84: WK/OS Tijdrit | G84: =VLOOKUP($D84,'Prijslijst2024 - 20 deelnemers'!$A$4:$Q$17,17,FALSE) -> 10.65 | H84: =IFERROR(VLOOKUP($D84,'Prijslijst2024 - 20 deelnemers'!$A$19:$Q$23,17,FALSE)*E84,0) -> 0 | J84: =SUM(G84:I84) -> 10.65 | K84: Tijdrit
A86: 45568 | B86: 45568 | C86: Sparkassen Münsterland Giro | D86: HC Eendaags | G86: =VLOOKUP($D86,'Prijslijst2024 - 20 deelnemers'!$A$4:$Q$17,17,FALSE) -> 2.2 | H86: =IFERROR(VLOOKUP($D86,'Prijslijst2024 - 20 deelnemers'!$A$19:$Q$23,17,FALSE)*E86,0) -> 0 | J86: =SUM(G86:I86) -> 2.2 | K86: Eendaags
A87: 45570 | B87: 45570 | C87: Giro dell'Emilia | D87: HC Semi Klassieker | G87: =VLOOKUP($D87,'Prijslijst2024 - 20 deelnemers'!$A$4:$Q$17,17,FALSE) -> 4.2 | H87: =IFERROR(VLOOKUP($D87,'Prijslijst2024 - 20 deelnemers'!$A$19:$Q$23,17,FALSE)*E87,0) -> 0 | J87: =SUM(G87:I87) -> 4.2 | K87: Eendaags
A88: 45571 | B88: 45571 | C88: Paris-Tours | D88: HC Semi Klassieker | G88: =VLOOKUP($D88,'Prijslijst2024 - 20 deelnemers'!$A$4:$Q$17,17,FALSE) -> 4.2 | H88: =IFERROR(VLOOKUP($D88,'Prijslijst2024 - 20 deelnemers'!$A$19:$Q$23,17,FALSE)*E88,0) -> 0 | J88: =SUM(G88:I88) -> 4.2 | K88: Eendaags
A89: 45572 | B89: 45572 | C89: Coppa Bernocchi - GP Banco BPM | D89: HC Eendaags | G89: =VLOOKUP($D89,'Prijslijst2024 - 20 deelnemers'!$A$4:$Q$17,17,FALSE) -> 2.2 | H89: =IFERROR(VLOOKUP($D89,'Prijslijst2024 - 20 deelnemers'!$A$19:$Q$23,17,FALSE)*E89,0) -> 0 | J89: =SUM(G89:I89) -> 2.2 | K89: Eendaags
A90: 45573 | B90: 45573 | C90: Tre Valli Varesine | D90: HC Semi Klassieker | G90: =VLOOKUP($D90,'Prijslijst2024 - 20 deelnemers'!$A$4:$Q$17,17,FALSE) -> 4.2 | H90: =IFERROR(VLOOKUP($D90,'Prijslijst2024 - 20 deelnemers'!$A$19:$Q$23,17,FALSE)*E90,0) -> 0 | J90: =SUM(G90:I90) -> 4.2 | K90: Eendaags
A91: 45575 | B91: 45575 | C91: Gran Piemonte | D91: HC Eendaags | G91: =VLOOKUP($D91,'Prijslijst2024 - 20 deelnemers'!$A$4:$Q$17,17,FALSE) -> 2.2 | H91: =IFERROR(VLOOKUP($D91,'Prijslijst2024 - 20 deelnemers'!$A$19:$Q$23,17,FALSE)*E91,0) -> 0 | J91: =SUM(G91:I91) -> 2.2 | K91: Eendaags
A92: 45577 | B92: 45577 | C92: Il Lombardia | D92: Worldtour Klassieker | G92: =VLOOKUP($D92,'Prijslijst2024 - 20 deelnemers'!$A$4:$Q$17,17,FALSE) -> 12.25 | H92: =IFERROR(VLOOKUP($D92,'Prijslijst2024 - 20 deelnemers'!$A$19:$Q$23,17,FALSE)*E92,0) -> 0 | J92: =SUM(G92:I92) -> 12.25 | K92: Eendaags
A93: 45580 | B93: 45585 | C93: Gree-Tour of Guangxi | D93: Worldtour Ronde | E93: 6 | G93: =VLOOKUP($D93,'Prijslijst2024 - 20 deelnemers'!$A$4:$Q$17,17,FALSE) -> 7.55 | H93: =IFERROR(VLOOKUP($D93,'Prijslijst2024 - 20 deelnemers'!$A$19:$Q$23,17,FALSE)*E93,0) -> 9.3 | J93: =SUM(G93:I93) -> 16.85 | K93: Ronde

Sheet Veranderingen tov 2023
A1: In | B1: Prijzen | D1: Uit | E1: Prijzen
A2: OS Tijdrit | B2: 18.35 | D2: Vuelta a San Juan Internacional | E2: 7.65
A3: OS Wegrit | B3: 10.65 | D3: Tour of Britain | E3: 7.65
A4: Gree-Tour of Guangxi | B4: 16.85 | D4: Tour of Slovenia | E4: 5.85
D5: Giro di Sicilia | E5: 5.25
D6: La Route d'Occitanie - La Dépêche du Midi | E6: 5.25
D7: Tour des Alpes Maritimes et du Var | E7: 4.05
D8: Mont Ventoux Dénivelé Challenge | E8: 2.2
D9: Axion SWISS Bank Gran Premio Città di Lugano | E9: 2.2
D10: Bredene Koksijde Classic | E10: 2.2
