Workbook

Sheet Prijslijst2024 - 20 deelnemers
A1: Prijzentabel seizoen 2022
A2: Categorie | B2: Plaats | Q2: Totaal
A3: Ronde | B3: 1 | C3: 2 | D3: 3 | E3: 4 | F3: 5 | G3: 6 | H3: 7 | I3: 8 | J3: 9 | K3: 10 | L3: 11 | M3: 12 | N3: 13 | O3: 14 | P3: 15 | Q3: Totaal
A4: Tour | B4: 9 | C4: 6.5 | D4: 5 | E4: 4 | F4: 3 | G4: 2.5 | H4: 2 | I4: 1.6 | J4: 1.2 | K4: 0.9 | L4: 0.6 | M4: 0.4 | N4: 0.35 | O4: 0.3 | P4: 0.25 | Q4: =SUM(B4:P4) -> 37.6
A5: Giro/Vuelta | B5: 7.5 | C5: 5.5 | D5: 4.25 | E5: 3.25 | F5: 2.5 | G5: 2 | H5: 1.5 | I5: 1.1 | J5: 0.8 | K5: 0.6 | L5: 0.5 | M5: 0.4 | N5: 0.3 | O5: 0.25 | P5: 0.2 | Q5: =SUM(B5:P5) -> 30.65
A6: Worldtour Super Ronde | B6: 3 | C6: 2.25 | D6: 1.75 | E6: 1.3 | F6: 1 | G6: 0.8 | H6: 0.6 | I6: 0.5 | J6: 0.4 | K6: 0.3 | L6: 0.2 | M6: 0.15 | Q6: =SUM(B6:P6) -> 12.25
A7: Worldtour Ronde | B7: 2 | C7: 1.5 | D7: 1.2 | E7: 0.9 | F7: 0.7 | G7: 0.5 | H7: 0.3 | I7: 0.2 | J7: 0.15 | K7: 0.1 | Q7: =SUM(B7:P7) -> 7.55
A8: HC Ronde | B8: 1 | C8: 0.7 | D8: 0.5 | E8: 0.3 | F8: 0.2 | G8: 0.1 | H8: 0.05 | Q8: =SUM(B8:P8) -> 2.85
A9: Eendaags | B9: 1 | C9: 2 | D9: 3 | E9: 4 | F9: 5 | G9: 6 | H9: 7 | I9: 8 | J9: 9 | K9: 10 | L9: 11 | M9: 12 | N9: 13 | O9: 14 | P9: 15 | Q9: Totaal
A10: Worldtour Klassieker | B10: 3 | C10: 2.25 | D10: 1.75 | E10: 1.3 | F10: 1 | G10: 0.8 | H10: 0.6 | I10: 0.5 | J10: 0.4 | K10: 0.3 | L10: 0.2 | M10: 0.15 | Q10: =SUM(B10:P10) -> 12.25
A11: Worldtour Eendaags | B11: 2 | C11: 1.5 | D11: 1.2 | E11: 0.9 | F11: 0.7 | G11: 0.5 | H11: 0.3 | I11: 0.2 | J11: 0.15 | K11: 0.1 | Q11: =SUM(B11:P11) -> 7.55
A12: HC Semi Klassieker | B12: 1.5 | C12: 1 | D12: 0.7 | E12: 0.5 | F12: 0.3 | G12: 0.15 | H12: 0.05 | Q12: =SUM(B12:P12) -> 4.2
A13: HC Eendaags | B13: 0.9 | C13: 0.6 | D13: 0.4 | E13: 0.2 | F13: 0.1 | Q13: =SUM(B13:P13) -> 2.2
A14: WK/OS Wegrit | B14: 4 | C14: 3 | D14: 2.5 | E14: 2 | F14: 1.6 | G14: 1.3 | H14: 1 | I14: 0.8 | J14: 0.6 | K14: 0.5 | L14: 0.4 | M14: 0.3 | N14: 0.2 | O14: 0.1 | P14: 0.05 | Q14: =SUM(B14:P14) -> 18.35
A15: WK/OS Tijdrit | B15: 3 | C15: 2 | D15: 1.6 | E15: 1.2 | F15: 0.9 | G15: 0.7 | H15: 0.5 | I15: 0.35 | J15: 0.25 | K15: 0.15 | Q15: =SUM(B15:P15) -> 10.65
A16: EK Wegrit | B16: 2.5 | C16: 1.75 | D16: 1.35 | E16: 1 | F16: 0.75 | G16: 0.5 | H16: 0.4 | I16: 0.3 | J16: 0.2 | K16: 0.1 | Q16: =SUM(B16:P16) -> 8.85
A17: EK Tijdrit | B17: 1.75 | C17: 1.25 | D17: 0.8 | E17: 0.5 | F17: 0.3 | G17: 0.15 | H17: 0.05 | Q17: =SUM(B17:P17) -> 4.8
A18: Etappe | B18: 1 | C18: 2 | D18: 3 | E18: 4 | F18: 5 | G18: 6 | H18: 7 | I18: 8 | J18: 9 | K18: 10 | L18: 11 | M18: 12 | N18: 13 | O18: 14 | P18: 15 | Q18: Totaal
A19: Tour | B19: 1 | C19: 0.8 | D19: 0.6 | E19: 0.5 | F19: 0.4 | G19: 0.3 | H19: 0.25 | I19: 0.2 | J19: 0.15 | K19: 0.1 | Q19: =SUM(B19:P19) -> 4.3
A20: Giro/Vuelta | B20: 0.9 | C20: 0.7 | D20: 0.55 | E20: 0.45 | F20: 0.35 | G20: 0.25 | H20: 0.2 | I20: 0.15 | J20: 0.1 | K20: 0.05 | Q20: =SUM(B20:P20) -> 3.7
A21: Worldtour Super Ronde | B21: 0.7 | C21: 0.5 | D21: 0.4 | E21: 0.3 | F21: 0.2 | G21: 0.1 | Q21: =SUM(B21:P21) -> 2.2
A22: Worldtour Ronde | B22: 0.55 | C22: 0.4 | D22: 0.3 | E22: 0.2 | F22: 0.1 | Q22: =SUM(B22:P22) -> 1.55
A23: HC Ronde | B23: 0.3 | C23: 0.2 | D23: 0.1 | Q23: =SUM(B23:P23) -> 0.6
A24: Truien | Q24: Totaal
A25: Punten Tour | B25: 1.5 | Q25: =SUM(B25:P25) -> 1.5
A26: Berg Tour | B26: 1.5 | Q26: =SUM(B26:P26) -> 1.5
A27: Punten Giro/Vuelta | B27: 1 | Q27: =SUM(B27:P27) -> 1
A28: Berg Giro/Vuelta | B28: 1 | Q28: =SUM(B28:P28) -> 1
A29: Nationaal kampioen | B29: 0.5 | Q29: =SUM(B29:P29) -> 0.5
A31: Puntentabel seizoen 2022
A32: Categorie | B32: Plaats | AA32: Totaal
A33: Ronde | B33: 1 | C33: 2 | D33: 3 | E33: 4 | F33: 5 | G33: 6 | H33: 7 | I33: 8 | J33: 9 | K33: 10 | L33: 11 | M33: 12 | N33: 13 | O33: 14 | P33: 15 | Q33: 16 | R33: 17 | S33: 18 | T33: 19 | U33: 20 | V33: 21 | W33: 22 | X33: 23 | Y33: 24 | Z33: 25 | AA33: Totaal
A34: Tour de France | B34: 0 | C34: 0 | D34: 0 | E34: 0 | F34: 0 | G34: 0 | H34: 0 | I34: 0 | J34: 0 | K34: 0 | L34: 20 | M34: 40 | N34: 60 | O34: 80 | P34: 100 | Q34: 200 | R34: 180 | S34: 160 | T34: 140 | U34: 120 | V34: 100 | W34: 80 | X34: 60 | Y34: 40 | Z34: 20 | AA34: =SUM(B34:Z34) -> 1400
A35: Giro/Vuelta | B35: 0 | C35: 0 | D35: 0 | E35: 0 | F35: 0 | G35: 0 | H35: 0 | I35: 0 | J35: 0 | K35: 0 | L35: 15 | M35: 30 | N35: 40 | O35: 60 | P35: 80 | Q35: 160 | R35: 140 | S35: 120 | T35: 100 | U35: 80 | V35: 60 | W35: 50 | X35: 40 | Y35: 30 | Z35: 15 | AA35: =SUM(B35:Z35) -> 1020
A36: Worldtour Super Ronde | B36: 0 | C36: 0 | D36: 0 | E36: 0 | F36: 0 | G36: 0 | H36: 0 | I36: 10 | J36: 20 | K36: 30 | L36: 40 | M36: 50 | N36: 100 | O36: 90 | P36: 80 | Q36: 70 | R36: 60 | S36: 50 | T36: 40 | U36: 30 | V36: 20 | W36: 10 | AA36: =SUM(B36:Z36) -> 700
A37: Worldtour Ronde | B37: 0 | C37: 0 | D37: 0 | E37: 0 | F37: 0 | G37: 10 | H37: 15 | I37: 20 | J37: 30 | K37: 40 | L37: 80 | M37: 70 | N37: 60 | O37: 50 | P37: 40 | Q37: 30 | R37: 20 | S37: 15 | T37: 10 | U37: 5 | AA37: =SUM(B37:Z37) -> 495
A38: HC Ronde | B38: 0 | C38: 0 | D38: 0 | E38: 0 | F38: 0 | G38: 10 | H38: 25 | I38: 50 | J38: 25 | K38: 10 | AA38: =SUM(B38:Z38) -> 120
A39: Klassieker | B39: 1 | C39: 2 | D39: 3 | E39: 4 | F39: 5 | G39: 6 | H39: 7 | I39: 8 | J39: 9 | K39: 10 | L39: 11 | M39: 12 | N39: 13 | O39: 14 | P39: 15 | Q39: 16 | R39: 17 | S39: 18 | T39: 19 | U39: 20 | V39: 21 | W39: 22 | X39: 23 | Y39: 24 | Z39: 25 | AA39: Totaal
A40: Worldtour Klassieker | B40: 0 | C40: 0 | D40: 0 | E40: 0 | F40: 0 | G40: 0 | H40: 0 | I40: 15 | J40: 30 | K40: 40 | L40: 60 | M40: 80 | N40: 160 | O40: 140 | P40: 120 | Q40: 100 | R40: 80 | S40: 60 | T40: 50 | U40: 40 | V40: 30 | W40: 20 | AA40: =SUM(B40:Z40) -> 1025
A41: Worldtour Eendaags | B41: 0 | C41: 0 | D41: 0 | E41: 0 | F41: 0 | G41: 10 | H41: 20 | I41: 30 | J41: 40 | K41: 50 | L41: 100 | M41: 90 | N41: 80 | O41: 70 | P41: 60 | Q41: 50 | R41: 40 | S41: 30 | T41: 20 | U41: 10 | AA41: =SUM(B41:Z41) -> 700
...

Sheet Kalender2024
A1: Start | B1: Einde | C1: Naam | D1: Subcategorie | E1: # etappes | G1: AK | H1: Etappes | I1: Truien | J1: Totaal | K1: Categorie
A2: 45307 | B2: 45312 | C2: Santos Tour Down Under | D2: Worldtour Ronde | E2: 6 | G2: =VLOOKUP($D2,'Prijslijst2024 - 20 deelnemers'!$A$4:$Q$17,17,FALSE) -> 7.55 | H2: =IFERROR(VLOOKUP($D2,'Prijslijst2024 - 20 deelnemers'!$A$19:$Q$23,17,FALSE)*E2,0) -> 9.3 | J2: =SUM(G2:I2) -> 16.85 | K2: Ronde
A3: 45319 | B3: 45319 | C3: Cadel Evans Great Ocean Road Race | D3: Worldtour Eendaags | G3: =VLOOKUP($D3,'Prijslijst2024 - 20 deelnemers'!$A$4:$Q$17,17,FALSE) -> 7.55 | H3: =IFERROR(VLOOKUP($D3,'Prijslijst2024 - 20 deelnemers'!$A$19:$Q$23,17,FALSE)*E3,0) -> 0 | J3: =SUM(G3:I3) -> 7.55 | K3: Eendaags
A4: 44227 | B4: 44231 | C4: Volta a la Comunitat Valenciana | D4: HC Ronde | E4: 5 | G4: =VLOOKUP($D4,'Prijslijst2024 - 20 deelnemers'!$A$4:$Q$17,17,FALSE) -> 2.85 | H4: =IFERROR(VLOOKUP($D4,'Prijslijst2024 - 20 deelnemers'!$A$19:$Q$23,17,FALSE)*E4,0) -> 3 | J4: =SUM(G4:I4) -> 5.85 | K4: Ronde
A5: 44227 | B5: 44231 | C5: Etoile de Bessèges - Tour du Gard | D5: HC Ronde | E5: 5 | G5: =VLOOKUP($D5,'Prijslijst2024 - 20 deelnemers'!$A$4:$Q$17,17,FALSE) -> 2.85 | H5: =IFERROR(VLOOKUP($D5,'Prijslijst2024 - 20 deelnemers'!$A$19:$Q$23,17,FALSE)*E5,0) -> 3 | J5: =SUM(G5:I5) -> 5.85 | K5: Ronde
A7: 45330 | B7: 45333 | C7: Tour de la Provence | D7: HC Ronde | E7: 4 | G7: =VLOOKUP($D7,'Prijslijst2024 - 20 deelnemers'!$A$4:$Q$17,17,FALSE) -> 2.85 | H7: =IFERROR(VLOOKUP($D7,'Prijslijst2024 - 20 deelnemers'!$A$19:$Q$23,17,FALSE)*E7,0) -> 2.4 | J7: =SUM(G7:I7) -> 5.25 | K7: Ronde
A8: 45332 | B8: 45336 | C8: Tour of Oman | D8: HC Ronde | E8: 5 | G8: =VLOOKUP($D8,'Prijslijst2024 - 20 deelnemers'!$A$4:$Q$17,17,FALSE) -> 2.85 | H8: =IFERROR(VLOOKUP($D8,'Prijslijst2024 - 20 deelnemers'!$A$19:$Q$23,17,FALSE)*E8,0) -> 3 | J8: =SUM(G8:I8) -> 5.85 | K8: Ronde
A9: 45336 | B9: 45340 | C9: Volta ao Algarve em Bicicleta | D9: HC Ronde | E9: 5 | G9: =VLOOKUP($D9,'Prijslijst2024 - 20 deelnemers'!$A$4:$Q$17,17,FALSE) -> 2.85 | H9: =IFERROR(VLOOKUP($D9,'Prijslijst2024 - 20 deelnemers'!$A$19:$Q$23,17,FALSE)*E9,0) -> 3 | J9: =SUM(G9:I9) -> 5.85 | K9: Ronde
A10: 45336 | B10: 45340 | C10: Vuelta a Andalucia Ruta Ciclista Del Sol | D10: HC Ronde | E10: 5 | G10: =VLOOKUP($D10,'Prijslijst2024 - 20 deelnemers'!$A$4:$Q$17,17,FALSE) -> 2.85 | H10: =IFERROR(VLOOKUP($D10,'Prijslijst2024 - 20 deelnemers'!$A$19:$Q$23,17,FALSE)*E10,0) -> 3 | J10: =SUM(G10:I10) -> 5.85 | K10: Ronde
A11: 45341 | B11: 45347 | C11: UAE Tour | D11: Worldtour Ronde | E11: 7 | G11: =VLOOKUP($D11,'Prijslijst2024 - 20 deelnemers'!$A$4:$Q$17,17,FALSE) -> 7.55 | H11: =IFERROR(VLOOKUP($D11,'Prijslijst2024 - 20 deelnemers'!$A$19:$Q$23,17,FALSE)*E11,0) -> 10.85 | J11: =SUM(G11:I11) -> 18.4 | K11: Ronde
A12: 45346 | B12: 45346 | C12: Omloop Het Nieuwsblad | D12: Worldtour Eendaags | G12: =VLOOKUP($D12,'Prijslijst2024 - 20 deelnemers'!$A$4:$Q$17,17,FALSE) -> 7.55 | H12: =IFERROR(VLOOKUP($D12,'Prijslijst2024 - 20 deelnemers'!$A$19:$Q$23,17,FALSE)*E12,0) -> 0 | J12: =SUM(G12:I12) -> 7.55 | K12: Eendaags
A13: 45346 | B13: 45346 | C13: Faun-Ardèche Classic | D13: HC Eendaags | G13: =VLOOKUP($D13,'Prijslijst2024 - 20 deelnemers'!$A$4:$Q$17,17,FALSE) -> 2.2 | H13: =IFERROR(VLOOKUP($D13,'Prijslijst2024 - 20 deelnemers'!$A$19:$Q$23,17,FALSE)*E13,0) -> 0 | J13: =SUM(G13:I13) -> 2.2 | K13: Eendaags
A14: 45347 | B14: 45347 | C14: Kuurne-Bruxelles-Kuurne | D14: HC Semi Klassieker | G14: =VLOOKUP($D14,'Prijslijst2024 - 20 deelnemers'!$A$4:$Q$17,17,FALSE) -> 4.2 | H14: =IFERROR(VLOOKUP($D14,'Prijslijst2024 - 20 deelnemers'!$A$19:$Q$23,17,FALSE)*E14,0) -> 0 | J14: =SUM(G14:I14) -> 4.2 | K14: Eendaags
A15: 45347 | B15: 45347 | C15: Faun Drome Classic | D15: HC Eendaags | G15: =VLOOKUP($D15,'Prijslijst2024 - 20 deelnemers'!$A$4:$Q$17,17,FALSE) -> 2.2 | H15: =IFERROR(VLOOKUP($D15,'Prijslijst2024 - 20 deelnemers'!$A$19:$Q$23,17,FALSE)*E15,0) -> 0 | J15: =SUM(G15:I15) -> 2.2 | K15: Eendaags
A16: 45349 | B16: 45349 | C16: Le Samyn | D16: HC Eendaags | G16: =VLOOKUP($D16,'Prijslijst2024 - 20 deelnemers'!$A$4:$Q$17,17,FALSE) -> 2.2 | H16: =IFERROR(VLOOKUP($D16,'Prijslijst2024 - 20 deelnemers'!$A$19:$Q$23,17,FALSE)*E16,0) -> 0 | J16: =SUM(G16:I16) -> 2.2 | K16: Eendaags
A17: 45350 | B17: 45350 | C17: Trofeo Laigueglia | D17: HC Eendaags | G17: =VLOOKUP($D17,'Prijslijst2024 - 20 deelnemers'!$A$4:$Q$17,17,FALSE) -> 2.2 | H17: =IFERROR(VLOOKUP($D17,'Prijslijst2024 - 20 deelnemers'!$A$19:$Q$23,17,FALSE)*E17,0) -> 0 | J17: =SUM(G17:I17) -> 2.2 | K17: Eendaags
A19: 45353 | B19: 45353 | C19: Strade Bianche | D19: Worldtour Eendaags | G19: =VLOOKUP($D19,'Prijslijst2024 - 20 deelnemers'!$A$4:$Q$17,17,FALSE) -> 7.55 | H19: =IFERROR(VLOOKUP($D19,'Prijslijst2024 - 20 deelnemers'!$A$19:$Q$23,17,FALSE)*E19,0) -> 0 | J19: =SUM(G19:I19) -> 7.55 | K19: Eendaags
A20: 45354 | B20: 45361 | C20: Paris-Nice | D20: Worldtour Super Ronde | E20: 8 | G20: =VLOOKUP($D20,'Prijslijst2024 - 20 deelnemers'!$A$4:$Q$17,17,FALSE) -> 12.25 | H20: =IFERROR(VLOOKUP($D20,'Prijslijst2024 - 20 deelnemers'!$A$19:$Q$23,17,FALSE)*E20,0) -> 17.6 | J20: =SUM(G20:I20) -> 29.85 | K20: Ronde
A21: 45355 | B21: 45361 | C21: Tirreno-Adriatico | D21: Worldtour Super Ronde | E21: 7 | G21: =VLOOKUP($D21,'Prijslijst2024 - 20 deelnemers'!$A$4:$Q$17,17,FALSE) -> 12.25 | H21: =IFERROR(VLOOKUP($D21,'Prijslijst2024 - 20 deelnemers'!$A$19:$Q$23,17,FALSE)*E21,0) -> 15.4 | J21: =SUM(G21:I21) -> 27.65 | K21: Ronde
A22: 45364 | B22: 45364 | C22: Danilith Nokere Koerse | D22: HC Eendaags | G22: =VLOOKUP($D22,'Prijslijst2024 - 20 deelnemers'!$A$4:$Q$17,17,FALSE) -> 2.2 | H22: =IFERROR(VLOOKUP($D22,'Prijslijst2024 - 20 deelnemers'!$A$19:$Q$23,17,FALSE)*E22,0) -> 0 | J22: =SUM(G22:I22) -> 2.2 | K22: Eendaags
A23: 45364 | B23: 45364 | C23: Milano-Torino | D23: HC Semi Klassieker | G23: =VLOOKUP($D23,'Prijslijst2024 - 20 deelnemers'!$A$4:$Q$17,17,FALSE) -> 4.2 | H23: =IFERROR(VLOOKUP($D23,'Prijslijst2024 - 20 deelnemers'!$A$19:$Q$23,17,FALSE)*E23,0) -> 0 | J23: =SUM(G23:I23) -> 4.2 | K23: Eendaags
A24: 45367 | B24: 45367 | C24: Milano-Sanremo | D24: Worldtour Klassieker | G24: =VLOOKUP($D24,'Prijslijst2024 - 20 deelnemers'!$A$4:$Q$17,17,FALSE) -> 12.25 | H24: =IFERROR(VLOOKUP($D24,'Prijslijst2024 - 20 deelnemers'!$A$19:$Q$23,17,FALSE)*E24,0) -> 0 | J24: =SUM(G24:I24) -> 12.25 | K24: Eendaags
A25: 45369 | B25: 45375 | C25: Volta Ciclista a Catalunya | D25: Worldtour Ronde | E25: 7 | G25: =VLOOKUP($D25,'Prijslijst2024 - 20 deelnemers'!$A$4:$Q$17,17,FALSE) -> 7.55 | H25: =IFERROR(VLOOKUP($D25,'Prijslijst2024 - 20 deelnemers'!$A$19:$Q$23,17,FALSE)*E25,0) -> 10.85 | J25: =SUM(G25:I25) -> 18.4 | K25: Ronde
A26: 45371 | B26: 45371 | C26: Classic Brugge-De Panne | D26: Worldtour Eendaags | G26: =VLOOKUP($D26,'Prijslijst2024 - 20 deelnemers'!$A$4:$Q$17,17,FALSE) -> 7.55 | H26: =IFERROR(VLOOKUP($D26,'Prijslijst2024 - 20 deelnemers'!$A$19:$Q$23,17,FALSE)*E26,0) -> 0 | J26: =SUM(G26:I26) -> 7.55 | K26: Eendaags
A27: 45373 | B27: 45373 | C27: E3 Saxo Bank Classic | D27: Worldtour Eendaags | G27: =VLOOKUP($D27,'Prijslijst2024 - 20 deelnemers'!$A$4:$Q$17,17,FALSE) -> 7.55 | H27: =IFERROR(VLOOKUP($D27,'Prijslijst2024 - 20 deelnemers'!$A$19:$Q$23,17,FALSE)*E27,0) -> 0 | J27: =SUM(G27:I27) -> 7.55 | K27: Eendaags
A28: 45375 | B28: 45375 | C28: Gent-Wevelgem in Flanders Fields | D28: Worldtour Eendaags | G28: =VLOOKUP($D28,'Prijslijst2024 - 20 deelnemers'!$A$4:$Q$17,17,FALSE) -> 7.55 | H28: =IFERROR(VLOOKUP($D28,'Prijslijst2024 - 20 deelnemers'!$A$19:$Q$23,17,FALSE)*E28,0) -> 0 | J28: =SUM(G28:I28) -> 7.55 | K28: Eendaags
A29: 45378 | B29: 45378 | C29: Dwars door Vlaanderen | D29: Worldtour Eendaags | G29: =VLOOKUP($D29,'Prijslijst2024 - 20 deelnemers'!$A$4:$Q$17,17,FALSE) -> 7.55 | H29: =IFERROR(VLOOKUP($D29,'Prijslijst2024 - 20 deelnemers'!$A$19:$Q$23,17,FALSE)*E29,0) -> 0 | J29: =SUM(G29:I29) -> 7.55 | K29: Eendaags
A30: 45381 | B30: 45381 | C30: Gran Premio Miguel Indurain | D30: HC Eendaags | G30: =VLOOKUP($D30,'Prijslijst2024 - 20 deelnemers'!$A$4:$Q$17,17,FALSE) -> 2.2 | H30: =IFERROR(VLOOKUP($D30,'Prijslijst2024 - 20 deelnemers'!$A$19:$Q$23,17,FALSE)*E30,0) -> 0 | J30: =SUM(G30:I30) -> 2.2 | K30: Eendaags
A31: 45382 | B31: 45382 | C31: Ronde van Vlaanderen | D31: Worldtour Klassieker | G31: =VLOOKUP($D31,'Prijslijst2024 - 20 deelnemers'!$A$4:$Q$17,17,FALSE) -> 12.25 | H31: =IFERROR(VLOOKUP($D31,'Prijslijst2024 - 20 deelnemers'!$A$19:$Q$23,17,FALSE)*E31,0) -> 0 | J31: =SUM(G31:I31) -> 12.25 | K31: Eendaags
A33: 45383 | B33: 45388 | C33: Itzulia Basque Country | D33: Worldtour Ronde | E33: 6 | G33: =VLOOKUP($D33,'Prijslijst2024 - 20 deelnemers'!$A$4:$Q$17,17,FALSE) -> 7.55 | H33: =IFERROR(VLOOKUP($D33,'Prijslijst2024 - 20 deelnemers'!$A$19:$Q$23,17,FALSE)*E33,0) -> 9.3 | J33: =SUM(G33:I33) -> 16.85 | K33: Ronde
A34: 45385 | B34: 45385 | C34: Scheldeprijs | D34: HC Semi Klassieker | G34: =VLOOKUP($D34,'Prijslijst2024 - 20 deelnemers'!$A$4:$Q$17,17,FALSE) -> 4.2 | H34: =IFERROR(VLOOKUP($D34,'Prijslijst2024 - 20 deelnemers'!$A$19:$Q$23,17,FALSE)*E34,0) -> 0 | J34: =SUM(G34:I34) -> 4.2 | K34: Eendaags
A35: 45389 | B35: 45389 | C35: Parijs-Roubaix | D35: Worldtour Klassieker | G35: =VLOOKUP($D35,'Prijslijst2024 - 20 deelnemers'!$A$4:$Q$17,17,FALSE) -> 12.25 | H35: =IFERROR(VLOOKUP($D35,'Prijslijst2024 - 20 deelnemers'!$A$19:$Q$23,17,FALSE)*E35,0) -> 0 | J35: =SUM(G35:I35) -> 12.25 | K35: Eendaags
A36: 45392 | B36: 45392 | C36: De Brabantse Pijl | D36: HC Semi Klassieker | G36: =VLOOKUP($D36,'Prijslijst2024 - 20 deelnemers'!$A$4:$Q$17,17,FALSE) -> 4.2 | H36: =IFERROR(VLOOKUP($D36,'Prijslijst2024 - 20 deelnemers'!$A$19:$Q$23,17,FALSE)*E36,0) -> 0 | J36: =SUM(G36:I36) -> 4.2 | K36: Eendaags
A37: 45396 | B37: 45396 | C37: Amstel Gold Race | D37: Worldtour Klassieker | G37: =VLOOKUP($D37,'Prijslijst2024 - 20 deelnemers'!$A$4:$Q$17,17,FALSE) -> 12.25 | H37: =IFERROR(VLOOKUP($D37,'Prijslijst2024 - 20 deelnemers'!$A$19:$Q$23,17,FALSE)*E37,0) -> 0 | J37: =SUM(G37:I37) -> 12.25 | K37: Eendaags
A38: 45397 | B38: 45401 | C38: Tour of the Alps | D38: HC Ronde | E38: 5 | G38: =VLOOKUP($D38,'Prijslijst2024 - 20 deelnemers'!$A$4:$Q$17,17,FALSE) -> 2.85 | H38: =IFERROR(VLOOKUP($D38,'Prijslijst2024 - 20 deelnemers'!$A$19:$Q$23,17,FALSE)*E38,0) -> 3 | J38: =SUM(G38:I38) -> 5.85 | K38: Ronde
A39: 45399 | B39: 45399 | C39: La Flèche Wallonne | D39: Worldtour Eendaags | G39: =VLOOKUP($D39,'Prijslijst2024 - 20 deelnemers'!$A$4:$Q$17,17,FALSE) -> 7.55 | H39: =IFERROR(VLOOKUP($D39,'Prijslijst2024 - 20 deelnemers'!$A$19:$Q$23,17,FALSE)*E39,0) -> 0 | J39: =SUM(G39:I39) -> 7.55 | K39: Eendaags
A40: 45403 | B40: 45403 | C40: Liège-Bastogne-Liège | D40: Worldtour Klassieker | G40: =VLOOKUP($D40,'Prijslijst2024 - 20 deelnemers'!$A$4:$Q$17,17,FALSE) -> 12.25 | H40: =IFERROR(VLOOKUP($D40,'Prijslijst2024 - 20 deelnemers'!$A$19:$Q$23,17,FALSE)*E40,0) -> 0 | J40: =SUM(G40:I40) -> 12.25 | K40: Eendaags
A41: 45405 | B41: 45410 | C41: Tour de Romandie | D41: Worldtour Ronde | E41: 6 | G41: =VLOOKUP($D41,'Prijslijst2024 - 20 deelnemers'!$A$4:$Q$17,17,FALSE) -> 7.55 | H41: =IFERROR(VLOOKUP($D41,'Prijslijst2024 - 20 deelnemers'!$A$19:$Q$23,17,FALSE)*E41,0) -> 9.3 | J41: =SUM(G41:I41) -> 16.85 | K41: Ronde
A43: 45413 | B43: 45413 | C43: Eschborn-Frankfurt | D43: Worldtour Eendaags | G43: =VLOOKUP($D43,'Prijslijst2024 - 20 deelnemers'!$A$4:$Q$17,17,FALSE) -> 7.55 | H43: =IFERROR(VLOOKUP($D43,'Prijslijst2024 - 20 deelnemers'!$A$19:$Q$23,17,FALSE)*E43,0) -> 0 | J43: =SUM(G43:I43) -> 7.55 | K43: Eendaags
A44: 45416 | B44: 45438 | C44: Giro d'Italia | D44: Giro/Vuelta | E44: 21 | G44: =VLOOKUP($D44,'Prijslijst2024 - 20 deelnemers'!$A$4:$Q$17,17,FALSE) -> 30.65 | H44: =IFERROR(VLOOKUP($D44,'Prijslijst2024 - 20 deelnemers'!$A$19:$Q$23,17,FALSE)*E44,0) -> 77.7 | I44: ='Prijslijst2024 - 20 deelnemers'!$Q$27+'Prijslijst2024 - 20 deelnemers'!$Q$28 -> 2 | J44: =SUM(G44:I44) -> 110.35 | K44: Ronde
...

Sheet Veranderingen tov 2023
A1: In | B1: Prijzen | D1: Uit | E1: Prijzen
A2: OS Tijdrit | B2: 18.35 | D2: Vuelta a San Juan Internacional | E2: 7.65
A3: OS Wegrit | B3: 10.65 | D3: Tour of Britain | E3: 7.65
A4: Gree-Tour of Guangxi | B4: 16.85 | D4: Tour of Slovenia | E4: 5.85
D5: Giro di Sicilia | E5: 5.25
D6: La Route d'Occitanie - La Dépêche du Midi | E6: 5.25
D7: Tour des Alpes Maritimes et du Var | E7: 4.05
D8: Mont Ventoux Dénivelé Challenge | E8: 2.2
D9: Axion SWISS Bank Gran Premio Città di Lugano | E9: 2.2
D10: Bredene Koksijde Classic | E10: 2.2
