Workbook

Sheet Podia
A1: Exclusief Pot | C1: Inclusief Pot
A2: Deelnemer | B2: Score | C2: Deelnemer | D2: Score
A3: Gemiddelde prijzengeld
A4: TEF | B4: 55.030769 | C4: TEF | D4: 62.40909
A5: Japie | B5: 54.421429 | C5: Jordy | D5: 61.534903
A6: Chef | B6: 54.075 | C6: IKE | D6: 60.36709
A7: Gemiddelde positie
A8: TEF | B8: 5.6923077 | C8: Jordy | D8: 5.125
A9: IKE | B9: 5.8 | C9: TEF | D9: 5.4615385
A10: Homme | B10: 6.25 | C10: IKE | D10: 5.8
A11: Percentage overwinningen
A12: Japie | B12: 0.28571429 | C12: Japie | D12: 0.28571429
A13: Chef | B13: 0.25 | C13: Chef | D13: 0.25
A14: IKE | B14: 0.2 | C14: IKE | D14: 0.2
A15: Percentage podia
A16: TEF | B16: 0.53846154 | C16: TEF | D16: 0.61538462
A17: Japie | B17: 0.42857143 | C17: Japie | D17: 0.42857143
A18: Guust | B18: 0.35714286 | C18: Jordy | D18: 0.375
A19: Percentage top 5
A20: TEF | B20: 0.69230769 | C20: TEF | D20: 0.69230769
A21: IKE | B21: 0.6 | C21: Guust | D21: 0.5
A22: Vinnie | B22: 0.53846154 | C22: Chef | D22: 0.5
A23: Percentage top 10
A24: Homme | B24: 1 | C24: Jordy | D24: 1
A25: Jordy | B25: 0.875 | C25: IKE | D25: 1
A26: Guust | B26: 0.85714286 | C26: Vinnie | D26: 0.84615385

Sheet Overzicht per deelnemer
A1: Selecteer deelnemer
A2: Aantal deelnames | B2: =SUMPRODUCT(COUNTIF(INDIRECT("'"&INDIRECT("Jaren!A1:A"&COUNT(Jaren!A:A))&"'!B:B"),B1)) -> 0
A4: Statistiek | B4: Exclusief pot | C4: Inclusief pot
A5: Totaal prijzengeld | B5: =SUMPRODUCT(SUMIFS(INDIRECT("'"&INDIRECT("Jaren!A1:A"&COUNT(Jaren!A:A))&"'!"&"C:C"),INDIRECT("'"&INDIRECT("Jaren!A1:A"&COUNT(Jaren!A:A))&"'!"&"B:B"),B1)) -> 0 | C5: =SUMPRODUCT(SUMIFS(INDIRECT("'"&INDIRECT("Jaren!A1:A"&COUNT(Jaren!A:A))&"'!"&"E:E"),INDIRECT("'"&INDIRECT("Jaren!A1:A"&COUNT(Jaren!A:A))&"'!"&"B:B"),B1)) -> 0
A6: Gemiddelde prijzengeld | B6: =IFERROR(B5/$B$2,"-") -> - | C6: =IFERROR(C5/$B$2,"-") -> -
A7: Gemiddelde positie | B7: =IFERROR(SUMPRODUCT(SUMIFS(INDIRECT("'"&INDIRECT("Jaren!A1:A"&COUNT(Jaren!A:A))&"'!"&"A:A"),INDIRECT("'"&INDIRECT("Jaren!A1:A"&COUNT(Jaren!A:A))&"'!"&"B:B"),B1))/B2,"-") -> - | C7: =IFERROR(SUMPRODUCT(SUMIFS(INDIRECT("'"&INDIRECT("Jaren!A1:A"&COUNT(Jaren!A:A))&"'!"&"F:F"),INDIRECT("'"&INDIRECT("Jaren!A1:A"&COUNT(Jaren!A:A))&"'!"&"B:B"),B1))/B2,"-") -> -
A8: Aantal overwinningen | B8: =SUMPRODUCT(COUNTIFS(INDIRECT("'"&INDIRECT("Jaren!A1:A"&COUNT(Jaren!A:A))&"'!B:B"),B1,INDIRECT("'"&INDIRECT("Jaren!A1:A"&COUNT(Jaren!A:A))&"'!A:A"),1)) -> 0 | C8: =SUMPRODUCT(COUNTIFS(INDIRECT("'"&INDIRECT("Jaren!A1:A"&COUNT(Jaren!A:A))&"'!B:B"),B1,INDIRECT("'"&INDIRECT("Jaren!A1:A"&COUNT(Jaren!A:A))&"'!F:F"),1)) -> 0
A9: Percentage overwinningen | B9: =IFERROR(B8/$B$2,"-") -> - | C9: =IFERROR(C8/$B$2,"-") -> -
A10: Aantal podia | B10: =SUMPRODUCT(COUNTIFS(INDIRECT("'"&INDIRECT("Jaren!A1:A"&COUNT(Jaren!A:A))&"'!B:B"),B1,INDIRECT("'"&INDIRECT("Jaren!A1:A"&COUNT(Jaren!A:A))&"'!A:A"),"<="&3)) -> 0 | C10: =SUMPRODUCT(COUNTIFS(INDIRECT("'"&INDIRECT("Jaren!A1:A"&COUNT(Jaren!A:A))&"'!B:B"),B1,INDIRECT("'"&INDIRECT("Jaren!A1:A"&COUNT(Jaren!A:A))&"'!F:F"),"<="&3)) -> 0
A11: Percentage podia | B11: =IFERROR(B10/$B$2,"-") -> - | C11: =IFERROR(C10/$B$2,"-") -> -
A12: Aantal top 5 noteringen | B12: =SUMPRODUCT(COUNTIFS(INDIRECT("'"&INDIRECT("Jaren!A1:A"&COUNT(Jaren!A:A))&"'!B:B"),B1,INDIRECT("'"&INDIRECT("Jaren!A1:A"&COUNT(Jaren!A:A))&"'!A:A"),"<="&5)) -> 0 | C12: =SUMPRODUCT(COUNTIFS(INDIRECT("'"&INDIRECT("Jaren!A1:A"&COUNT(Jaren!A:A))&"'!B:B"),B1,INDIRECT("'"&INDIRECT("Jaren!A1:A"&COUNT(Jaren!A:A))&"'!F:F"),"<="&5)) -> 0
A13: Percentage top 5 noteringen | B13: =IFERROR(B12/$B$2,"-") -> - | C13: =IFERROR(C12/$B$2,"-") -> -
A14: Aantal top 10 noteringen | B14: =SUMPRODUCT(COUNTIFS(INDIRECT("'"&INDIRECT("Jaren!A1:A"&COUNT(Jaren!A:A))&"'!B:B"),B1,INDIRECT("'"&INDIRECT("Jaren!A1:A"&COUNT(Jaren!A:A))&"'!A:A"),"<="&10)) -> 0 | C14: =SUMPRODUCT(COUNTIFS(INDIRECT("'"&INDIRECT("Jaren!A1:A"&COUNT(Jaren!A:A))&"'!B:B"),B1,INDIRECT("'"&INDIRECT("Jaren!A1:A"&COUNT(Jaren!A:A))&"'!F:F"),"<="&10)) -> 0
A15: Percentage top 10 noteringen | B15: =IFERROR(B14/$B$2,"-") -> - | C15: =IFERROR(C14/$B$2,"-") -> -

Sheet 2022
A1: Plek zonder pot | B1: Deelnemer | C1: Opbrengst | D1: Punten | E1: Opbrengst met pot | F1: Plek met pot
A2: 1 | B2: Jordy | C2: 64.15 | D2: 3685 | E2: =C2+SUM(INDIRECT("Potverdeling!B"&RANK(D2,D:D)&":B"&RANK(D2,D:D)+COUNTIF(D:D,D2)-1))/COUNTIF(D:D,D2)*$B$23+(MAX(A:A)*50-(SUM(C:C)+$B$23))/MAX(A:A) -> 74.251053 | F2: =RANK(E2,E:E) -> 1
A3: 2 | B3: TEF | C3: 57.75 | D3: 3440 | E3: =C3+SUM(INDIRECT("Potverdeling!B"&RANK(D3,D:D)&":B"&RANK(D3,D:D)+COUNTIF(D:D,D3)-1))/COUNTIF(D:D,D3)*$B$23+(MAX(A:A)*50-(SUM(C:C)+$B$23))/MAX(A:A) -> 66.006053 | F3: =RANK(E3,E:E) -> 2
A4: 3 | B4: Vinnie | C4: 56.5 | D4: 2165 | E4: =C4+SUM(INDIRECT("Potverdeling!B"&RANK(D4,D:D)&":B"&RANK(D4,D:D)+COUNTIF(D:D,D4)-1))/COUNTIF(D:D,D4)*$B$23+(MAX(A:A)*50-(SUM(C:C)+$B$23))/MAX(A:A) -> 59.221053 | F4: =RANK(E4,E:E) -> 4
A5: 4 | B5: Homme | C5: 56.45 | D5: 2815 | E5: =C5+SUM(INDIRECT("Potverdeling!B"&RANK(D5,D:D)&":B"&RANK(D5,D:D)+COUNTIF(D:D,D5)-1))/COUNTIF(D:D,D5)*$B$23+(MAX(A:A)*50-(SUM(C:C)+$B$23))/MAX(A:A) -> 61.385053 | F5: =RANK(E5,E:E) -> 3
A6: 5 | B6: Guust | C6: 55.2 | D6: 1530 | E6: =C6+SUM(INDIRECT("Potverdeling!B"&RANK(D6,D:D)&":B"&RANK(D6,D:D)+COUNTIF(D:D,D6)-1))/COUNTIF(D:D,D6)*$B$23+(MAX(A:A)*50-(SUM(C:C)+$B$23))/MAX(A:A) -> 57.921053 | F6: =RANK(E6,E:E) -> 5
A7: 6 | B7: FC Wheelie | C7: 51.3 | D7: 2495 | E7: =C7+SUM(INDIRECT("Potverdeling!B"&RANK(D7,D:D)&":B"&RANK(D7,D:D)+COUNTIF(D:D,D7)-1))/COUNTIF(D:D,D7)*$B$23+(MAX(A:A)*50-(SUM(C:C)+$B$23))/MAX(A:A) -> 55.497053 | F7: =RANK(E7,E:E) -> 6
A8: 7 | B8: Booggie | C8: 49.2 | D8: 1765 | E8: =C8+SUM(INDIRECT("Potverdeling!B"&RANK(D8,D:D)&":B"&RANK(D8,D:D)+COUNTIF(D:D,D8)-1))/COUNTIF(D:D,D8)*$B$23+(MAX(A:A)*50-(SUM(C:C)+$B$23))/MAX(A:A) -> 51.921053 | F8: =RANK(E8,E:E) -> 9
A9: 8 | B9: Fairplay | C9: 48.4 | D9: 2735 | E9: =C9+SUM(INDIRECT("Potverdeling!B"&RANK(D9,D:D)&":B"&RANK(D9,D:D)+COUNTIF(D:D,D9)-1))/COUNTIF(D:D,D9)*$B$23+(MAX(A:A)*50-(SUM(C:C)+$B$23))/MAX(A:A) -> 52.966053 | F9: =RANK(E9,E:E) -> 8
A10: 9 | B10: Laatste man | C10: 44.9 | D10: 3455 | E10: =C10+SUM(INDIRECT("Potverdeling!B"&RANK(D10,D:D)&":B"&RANK(D10,D:D)+COUNTIF(D:D,D10)-1))/COUNTIF(D:D,D10)*$B$23+(MAX(A:A)*50-(SUM(C:C)+$B$23))/MAX(A:A) -> 53.894053 | F10: =RANK(E10,E:E) -> 7
A11: 10 | B11: GMV | C11: 44.15 | D11: 3175 | E11: =C11+SUM(INDIRECT("Potverdeling!B"&RANK(D11,D:D)&":B"&RANK(D11,D:D)+COUNTIF(D:D,D11)-1))/COUNTIF(D:D,D11)*$B$23+(MAX(A:A)*50-(SUM(C:C)+$B$23))/MAX(A:A) -> 49.823053 | F11: =RANK(E11,E:E) -> 10
A12: 11 | B12: Latasa | C12: 43.5 | D12: 2490 | E12: =C12+SUM(INDIRECT("Potverdeling!B"&RANK(D12,D:D)&":B"&RANK(D12,D:D)+COUNTIF(D:D,D12)-1))/COUNTIF(D:D,D12)*$B$23+(MAX(A:A)*50-(SUM(C:C)+$B$23))/MAX(A:A) -> 47.328053 | F12: =RANK(E12,E:E) -> 13
A13: 12 | B13: YBA | C13: 43.25 | D13: 3210 | E13: =C13+SUM(INDIRECT("Potverdeling!B"&RANK(D13,D:D)&":B"&RANK(D13,D:D)+COUNTIF(D:D,D13)-1))/COUNTIF(D:D,D13)*$B$23+(MAX(A:A)*50-(SUM(C:C)+$B$23))/MAX(A:A) -> 49.661053 | F13: =RANK(E13,E:E) -> 11
... A20: 19 | B20: Snatch | C20: 24.55 | D20: 2115 | E20: =C20+SUM(INDIRECT("Potverdeling!B"&RANK(D20,D:D)&":B"&RANK(D20,D:D)+COUNTIF(D:D,D20)-1))/COUNTIF(D:D,D20)*$B$23+(MAX(A:A)*50-(SUM(C:C)+$B$23))/MAX(A:A) -> 27.271053 | F20: =RANK(E20,E:E) -> 19
A23: POT | B23: 36.9

Sheet 2021
A1: Plek zonder pot | B1: Deelnemer | C1: Opbrengst | D1: Punten | E1: Opbrengst met pot | F1: Plek met pot
A2: 1 | B2: Chef | C2: 70 | D2: 2240 | E2: =C2+SUM(INDIRECT("Potverdeling!B"&RANK(D2,D:D)&":B"&RANK(D2,D:D)+COUNTIF(D:D,D2)-1))/COUNTIF(D:D,D2)*$B$23+(MAX(A:A)*50-(SUM(C:C)+$B$23))/MAX(A:A) -> 75.323889 | F2: =RANK(E2,E:E) -> 1
A3: 2 | B3: Zwieler | C3: 69 | D3: 1620 | E3: =C3+SUM(INDIRECT("Potverdeling!B"&RANK(D3,D:D)&":B"&RANK(D3,D:D)+COUNTIF(D:D,D3)-1))/COUNTIF(D:D,D3)*$B$23+(MAX(A:A)*50-(SUM(C:C)+$B$23))/MAX(A:A) -> 69.338889 | F3: =RANK(E3,E:E) -> 2
A4: 3 | B4: Paultje | C4: 57.8 | D4: 1185 | E4: =C4+SUM(INDIRECT("Potverdeling!B"&RANK(D4,D:D)&":B"&RANK(D4,D:D)+COUNTIF(D:D,D4)-1))/COUNTIF(D:D,D4)*$B$23+(MAX(A:A)*50-(SUM(C:C)+$B$23))/MAX(A:A) -> 58.138889 | F4: =RANK(E4,E:E) -> 4
A5: 4 | B5: Laatste man | C5: 51.55 | D5: 2070 | E5: =C5+SUM(INDIRECT("Potverdeling!B"&RANK(D5,D:D)&":B"&RANK(D5,D:D)+COUNTIF(D:D,D5)-1))/COUNTIF(D:D,D5)*$B$23+(MAX(A:A)*50-(SUM(C:C)+$B$23))/MAX(A:A) -> 53.882889 | F5: =RANK(E5,E:E) -> 6
A6: 5 | B6: TEF | C6: 49.4 | D6: 3335 | E6: =C6+SUM(INDIRECT("Potverdeling!B"&RANK(D6,D:D)&":B"&RANK(D6,D:D)+COUNTIF(D:D,D6)-1))/COUNTIF(D:D,D6)*$B$23+(MAX(A:A)*50-(SUM(C:C)+$B$23))/MAX(A:A) -> 59.708889 | F6: =RANK(E6,E:E) -> 3
A7: 6 | B7: Arneboy | C7: 47.7 | D7: 2315 | E7: =C7+SUM(INDIRECT("Potverdeling!B"&RANK(D7,D:D)&":B"&RANK(D7,D:D)+COUNTIF(D:D,D7)-1))/COUNTIF(D:D,D7)*$B$23+(MAX(A:A)*50-(SUM(C:C)+$B$23))/MAX(A:A) -> 54.020889 | F7: =RANK(E7,E:E) -> 5
A8: 7 | B8: Guust | C8: 45.9 | D8: 1010 | E8: =C8+SUM(INDIRECT("Potverdeling!B"&RANK(D8,D:D)&":B"&RANK(D8,D:D)+COUNTIF(D:D,D8)-1))/COUNTIF(D:D,D8)*$B$23+(MAX(A:A)*50-(SUM(C:C)+$B$23))/MAX(A:A) -> 46.238889 | F8: =RANK(E8,E:E) -> 11
A9: 8 | B9: Homme | C9: 45.55 | D9: 1370 | E9: =C9+SUM(INDIRECT("Potverdeling!B"&RANK(D9,D:D)&":B"&RANK(D9,D:D)+COUNTIF(D:D,D9)-1))/COUNTIF(D:D,D9)*$B$23+(MAX(A:A)*50-(SUM(C:C)+$B$23))/MAX(A:A) -> 45.888889 | F9: =RANK(E9,E:E) -> 12
A10: 9 | B10: Booggie | C10: 45.1 | D10: 2020 | E10: =C10+SUM(INDIRECT("Potverdeling!B"&RANK(D10,D:D)&":B"&RANK(D10,D:D)+COUNTIF(D:D,D10)-1))/COUNTIF(D:D,D10)*$B$23+(MAX(A:A)*50-(SUM(C:C)+$B$23))/MAX(A:A) -> 46.934389 | F10: =RANK(E10,E:E) -> 10
A11: 10 | B11: Latasa | C11: 44.75 | D11: 3290 | E11: =C11+SUM(INDIRECT("Potverdeling!B"&RANK(D11,D:D)&":B"&RANK(D11,D:D)+COUNTIF(D:D,D11)-1))/COUNTIF(D:D,D11)*$B$23+(MAX(A:A)*50-(SUM(C:C)+$B$23))/MAX(A:A) -> 53.563389 | F11: =RANK(E11,E:E) -> 7
A12: 11 | B12: YBA | C12: 43.85 | D12: 2235 | E12: =C12+SUM(INDIRECT("Potverdeling!B"&RANK(D12,D:D)&":B"&RANK(D12,D:D)+COUNTIF(D:D,D12)-1))/COUNTIF(D:D,D12)*$B$23+(MAX(A:A)*50-(SUM(C:C)+$B$23))/MAX(A:A) -> 48.176889 | F12: =RANK(E12,E:E) -> 8
A13: 12 | B13: Scheetmans | C13: 42.05 | D13: 2170 | E13: =C13+SUM(INDIRECT("Potverdeling!B"&RANK(D13,D:D)&":B"&RANK(D13,D:D)+COUNTIF(D:D,D13)-1))/COUNTIF(D:D,D13)*$B$23+(MAX(A:A)*50-(SUM(C:C)+$B$23))/MAX(A:A) -> 45.379889 | F13: =RANK(E13,E:E) -> 13
... A19: 18 | B19: Fairplay | C19: 34.15 | D19: 1760 | E19: =C19+SUM(INDIRECT("Potverdeling!B"&RANK(D19,D:D)&":B"&RANK(D19,D:D)+COUNTIF(D:D,D19)-1))/COUNTIF(D:D,D19)*$B$23+(MAX(A:A)*50-(SUM(C:C)+$B$23))/MAX(A:A) -> 34.488889 | F19: =RANK(E19,E:E) -> 18
A23: POT | B23: 49.85

Sheet 2020
A1: Plek zonder pot | B1: Deelnemer | C1: Opbrengst | D1: Punten | E1: Opbrengst met pot | F1: Plek met pot
A2: 1 | B2: TEF | C2: 73.25 | D2: 2440 | E2: =C2+SUM(INDIRECT("Potverdeling!B"&RANK(D2,D:D)&":B"&RANK(D2,D:D)+COUNTIF(D:D,D2)-1))/COUNTIF(D:D,D2)*$B$23+(MAX(A:A)*50-(SUM(C:C)+$B$23))/MAX(A:A) -> 83.516389 | F2: =RANK(E2,E:E) -> 1
A3: 2 | B3: Guust | C3: 62.15 | D3: 1245 | E3: =C3+SUM(INDIRECT("Potverdeling!B"&RANK(D3,D:D)&":B"&RANK(D3,D:D)+COUNTIF(D:D,D3)-1))/COUNTIF(D:D,D3)*$B$23+(MAX(A:A)*50-(SUM(C:C)+$B$23))/MAX(A:A) -> 66.063889 | F3: =RANK(E3,E:E) -> 2
A4: 3 | B4: Scheetmans | C4: 56.1 | D4: 1035 | E4: =C4+SUM(INDIRECT("Potverdeling!B"&RANK(D4,D:D)&":B"&RANK(D4,D:D)+COUNTIF(D:D,D4)-1))/COUNTIF(D:D,D4)*$B$23+(MAX(A:A)*50-(SUM(C:C)+$B$23))/MAX(A:A) -> 60.013889 | F4: =RANK(E4,E:E) -> 4
A5: 4 | B5: Chef | C5: 55.65 | D5: 2225 | E5: =C5+SUM(INDIRECT("Potverdeling!B"&RANK(D5,D:D)&":B"&RANK(D5,D:D)+COUNTIF(D:D,D5)-1))/COUNTIF(D:D,D5)*$B$23+(MAX(A:A)*50-(SUM(C:C)+$B$23))/MAX(A:A) -> 64.645889 | F5: =RANK(E5,E:E) -> 3
A6: 5 | B6: Homme | C6: 54.25 | D6: 1435 | E6: =C6+SUM(INDIRECT("Potverdeling!B"&RANK(D6,D:D)&":B"&RANK(D6,D:D)+COUNTIF(D:D,D6)-1))/COUNTIF(D:D,D6)*$B$23+(MAX(A:A)*50-(SUM(C:C)+$B$23))/MAX(A:A) -> 59.434389 | F6: =RANK(E6,E:E) -> 5
A7: 6 | B7: Laatste man | C7: 51.75 | D7: 2105 | E7: =C7+SUM(INDIRECT("Potverdeling!B"&RANK(D7,D:D)&":B"&RANK(D7,D:D)+COUNTIF(D:D,D7)-1))/COUNTIF(D:D,D7)*$B$23+(MAX(A:A)*50-(SUM(C:C)+$B$23))/MAX(A:A) -> 59.051889 | F7: =RANK(E7,E:E) -> 6
A8: 7 | B8: Snatch | C8: 45.65 | D8: 2165 | E8: =C8+SUM(INDIRECT("Potverdeling!B"&RANK(D8,D:D)&":B"&RANK(D8,D:D)+COUNTIF(D:D,D8)-1))/COUNTIF(D:D,D8)*$B$23+(MAX(A:A)*50-(SUM(C:C)+$B$23))/MAX(A:A) -> 53.798889 | F8: =RANK(E8,E:E) -> 8
A9: 8 | B9: Jordy | C9: 45.55 | D9: 2530 | E9: =C9+SUM(INDIRECT("Potverdeling!B"&RANK(D9,D:D)&":B"&RANK(D9,D:D)+COUNTIF(D:D,D9)-1))/COUNTIF(D:D,D9)*$B$23+(MAX(A:A)*50-(SUM(C:C)+$B$23))/MAX(A:A) -> 57.933889 | F9: =RANK(E9,E:E) -> 7
A10: 9 | B10: Vinnie | C10: 45.3 | D10: 855 | E10: =C10+SUM(INDIRECT("Potverdeling!B"&RANK(D10,D:D)&":B"&RANK(D10,D:D)+COUNTIF(D:D,D10)-1))/COUNTIF(D:D,D10)*$B$23+(MAX(A:A)*50-(SUM(C:C)+$B$23))/MAX(A:A) -> 49.213889 | F10: =RANK(E10,E:E) -> 10
A11: 10 | B11: Zwieler | C11: 45.15 | D11: 1615 | E11: =C11+SUM(INDIRECT("Potverdeling!B"&RANK(D11,D:D)&":B"&RANK(D11,D:D)+COUNTIF(D:D,D11)-1))/COUNTIF(D:D,D11)*$B$23+(MAX(A:A)*50-(SUM(C:C)+$B$23))/MAX(A:A) -> 51.604889 | F11: =RANK(E11,E:E) -> 9
A12: 11 | B12: Arneboy | C12: 40.05 | D12: 610 | E12: =C12+SUM(INDIRECT("Potverdeling!B"&RANK(D12,D:D)&":B"&RANK(D12,D:D)+COUNTIF(D:D,D12)-1))/COUNTIF(D:D,D12)*$B$23+(MAX(A:A)*50-(SUM(C:C)+$B$23))/MAX(A:A) -> 43.963889 | F12: =RANK(E12,E:E) -> 12
A13: 12 | B13: GMV | C13: 39.4 | D13: 1050 | E13: =C13+SUM(INDIRECT("Potverdeling!B"&RANK(D13,D:D)&":B"&RANK(D13,D:D)+COUNTIF(D:D,D13)-1))/COUNTIF(D:D,D13)*$B$23+(MAX(A:A)*50-(SUM(C:C)+$B$23))/MAX(A:A) -> 43.313889 | F13: =RANK(E13,E:E) -> 13
... A19: 18 | B19: Latasa | C19: 23.2 | D19: 1575 | E19: =C19+SUM(INDIRECT("Potverdeling!B"&RANK(D19,D:D)&":B"&RANK(D19,D:D)+COUNTIF(D:D,D19)-1))/COUNTIF(D:D,D19)*$B$23+(MAX(A:A)*50-(SUM(C:C)+$B$23))/MAX(A:A) -> 28.807889 | F19: =RANK(E19,E:E) -> 18
A23: POT | B23: 42.35

Sheet 2019
A1: Plek zonder pot | B1: Deelnemer | C1: Opbrengst | D1: Punten | E1: Opbrengst met pot | F1: Plek met pot
A2: 1 | B2: Guust | C2: 69.8 | D2: 3155 | E2: =C2+SUM(INDIRECT("Potverdeling!B"&RANK(D2,D:D)&":B"&RANK(D2,D:D)+COUNTIF(D:D,D2)-1))/COUNTIF(D:D,D2)*$B$23+(MAX(A:A)*50-(SUM(C:C)+$B$23))/MAX(A:A) -> 74.444 | F2: =RANK(E2,E:E) -> 1
A3: 2 | B3: TEF | C3: 66.1 | D3: 3945 | E3: =C3+SUM(INDIRECT("Potverdeling!B"&RANK(D3,D:D)&":B"&RANK(D3,D:D)+COUNTIF(D:D,D3)-1))/COUNTIF(D:D,D3)*$B$23+(MAX(A:A)*50-(SUM(C:C)+$B$23))/MAX(A:A) -> 73.68 | F3: =RANK(E3,E:E) -> 2
A4: 3 | B4: Japie | C4: 64.2 | D4: 1905 | E4: =C4+SUM(INDIRECT("Potverdeling!B"&RANK(D4,D:D)&":B"&RANK(D4,D:D)+COUNTIF(D:D,D4)-1))/COUNTIF(D:D,D4)*$B$23+(MAX(A:A)*50-(SUM(C:C)+$B$23))/MAX(A:A) -> 65.541 | F4: =RANK(E4,E:E) -> 3
A5: 4 | B5: Zwieler | C5: 61.8 | D5: 1780 | E5: =C5+SUM(INDIRECT("Potverdeling!B"&RANK(D5,D:D)&":B"&RANK(D5,D:D)+COUNTIF(D:D,D5)-1))/COUNTIF(D:D,D5)*$B$23+(MAX(A:A)*50-(SUM(C:C)+$B$23))/MAX(A:A) -> 62.04 | F5: =RANK(E5,E:E) -> 6
A6: 5 | B6: Chef | C6: 60.9 | D6: 2140 | E6: =C6+SUM(INDIRECT("Potverdeling!B"&RANK(D6,D:D)&":B"&RANK(D6,D:D)+COUNTIF(D:D,D6)-1))/COUNTIF(D:D,D6)*$B$23+(MAX(A:A)*50-(SUM(C:C)+$B$23))/MAX(A:A) -> 62.975 | F6: =RANK(E6,E:E) -> 5
A7: 6 | B7: Jordy | C7: 59 | D7: 3185 | E7: =C7+SUM(INDIRECT("Potverdeling!B"&RANK(D7,D:D)&":B"&RANK(D7,D:D)+COUNTIF(D:D,D7)-1))/COUNTIF(D:D,D7)*$B$23+(MAX(A:A)*50-(SUM(C:C)+$B$23))/MAX(A:A) -> 64.745 | F7: =RANK(E7,E:E) -> 4
A8: 7 | B8: Scheetmans | C8: 57.8 | D8: 1520 | E8: =C8+SUM(INDIRECT("Potverdeling!B"&RANK(D8,D:D)&":B"&RANK(D8,D:D)+COUNTIF(D:D,D8)-1))/COUNTIF(D:D,D8)*$B$23+(MAX(A:A)*50-(SUM(C:C)+$B$23))/MAX(A:A) -> 58.04 | F8: =RANK(E8,E:E) -> 8
A9: 8 | B9: Homme | C9: 57.75 | D9: 2255 | E9: =C9+SUM(INDIRECT("Potverdeling!B"&RANK(D9,D:D)&":B"&RANK(D9,D:D)+COUNTIF(D:D,D9)-1))/COUNTIF(D:D,D9)*$B$23+(MAX(A:A)*50-(SUM(C:C)+$B$23))/MAX(A:A) -> 60.926 | F9: =RANK(E9,E:E) -> 7
A10: 9 | B10: Vinnie | C10: 51.4 | D10: 1600 | E10: =C10+SUM(INDIRECT("Potverdeling!B"&RANK(D10,D:D)&":B"&RANK(D10,D:D)+COUNTIF(D:D,D10)-1))/COUNTIF(D:D,D10)*$B$23+(MAX(A:A)*50-(SUM(C:C)+$B$23))/MAX(A:A) -> 51.64 | F10: =RANK(E10,E:E) -> 9
A11: 10 | B11: Arneboy | C11: 48.75 | D11: 1620 | E11: =C11+SUM(INDIRECT("Potverdeling!B"&RANK(D11,D:D)&":B"&RANK(D11,D:D)+COUNTIF(D:D,D11)-1))/COUNTIF(D:D,D11)*$B$23+(MAX(A:A)*50-(SUM(C:C)+$B$23))/MAX(A:A) -> 48.99 | F11: =RANK(E11,E:E) -> 11
A12: 11 | B12: Snatch | C12: 48.3 | D12: 1790 | E12: =C12+SUM(INDIRECT("Potverdeling!B"&RANK(D12,D:D)&":B"&RANK(D12,D:D)+COUNTIF(D:D,D12)-1))/COUNTIF(D:D,D12)*$B$23+(MAX(A:A)*50-(SUM(C:C)+$B$23))/MAX(A:A) -> 48.54 | F12: =RANK(E12,E:E) -> 13
A13: 12 | B13: Laatste man | C13: 44.8 | D13: 3135 | E13: =C13+SUM(INDIRECT("Potverdeling!B"&RANK(D13,D:D)&":B"&RANK(D13,D:D)+COUNTIF(D:D,D13)-1))/COUNTIF(D:D,D13)*$B$23+(MAX(A:A)*50-(SUM(C:C)+$B$23))/MAX(A:A) -> 48.71 | F13: =RANK(E13,E:E) -> 12
... A21: 20 | B21: YBA | C21: 22 | D21: 1405 | E21: =C21+SUM(INDIRECT("Potverdeling!B"&RANK(D21,D:D)&":B"&RANK(D21,D:D)+COUNTIF(D:D,D21)-1))/COUNTIF(D:D,D21)*$B$23+(MAX(A:A)*50-(SUM(C:C)+$B$23))/MAX(A:A) -> 22.24 | F21: =RANK(E21,E:E) -> 20
A23: POT | B23: 36.7

Sheet 2018
A1: Plek zonder pot | B1: Deelnemer | C1: Opbrengst | D1: Punten | E1: Opbrengst met pot | F1: Plek met pot
A2: 1 | B2: Chef | C2: 74.85 | D2: 1300 | E2: =C2+SUM(INDIRECT("Potverdeling!B"&RANK(D2,D:D)&":B"&RANK(D2,D:D)+COUNTIF(D:D,D2)-1))/COUNTIF(D:D,D2)*$B$23+(MAX(A:A)*50-(SUM(C:C)+$B$23))/MAX(A:A) -> 83.699474 | F2: =RANK(E2,E:E) -> 1
A3: 2 | B3: TEF | C3: 68.85 | D3: 1179 | E3: =C3+SUM(INDIRECT("Potverdeling!B"&RANK(D3,D:D)&":B"&RANK(D3,D:D)+COUNTIF(D:D,D3)-1))/COUNTIF(D:D,D3)*$B$23+(MAX(A:A)*50-(SUM(C:C)+$B$23))/MAX(A:A) -> 76.490474 | F3: =RANK(E3,E:E) -> 2
A4: 3 | B4: Paultje | C4: 59.4 | D4: 967 | E4: =C4+SUM(INDIRECT("Potverdeling!B"&RANK(D4,D:D)&":B"&RANK(D4,D:D)+COUNTIF(D:D,D4)-1))/COUNTIF(D:D,D4)*$B$23+(MAX(A:A)*50-(SUM(C:C)+$B$23))/MAX(A:A) -> 65.025474 | F4: =RANK(E4,E:E) -> 3
A5: 4 | B5: RoyKuh | C5: 58.1 | D5: 927 | E5: =C5+SUM(INDIRECT("Potverdeling!B"&RANK(D5,D:D)&":B"&RANK(D5,D:D)+COUNTIF(D:D,D5)-1))/COUNTIF(D:D,D5)*$B$23+(MAX(A:A)*50-(SUM(C:C)+$B$23))/MAX(A:A) -> 61.307474 | F5: =RANK(E5,E:E) -> 5
A6: 5 | B6: Vinnie | C6: 56.3 | D6: 961 | E6: =C6+SUM(INDIRECT("Potverdeling!B"&RANK(D6,D:D)&":B"&RANK(D6,D:D)+COUNTIF(D:D,D6)-1))/COUNTIF(D:D,D6)*$B$23+(MAX(A:A)*50-(SUM(C:C)+$B$23))/MAX(A:A) -> 61.119474 | F6: =RANK(E6,E:E) -> 6
A7: 6 | B7: Zwieler | C7: 55.4 | D7: 1070 | E7: =C7+SUM(INDIRECT("Potverdeling!B"&RANK(D7,D:D)&":B"&RANK(D7,D:D)+COUNTIF(D:D,D7)-1))/COUNTIF(D:D,D7)*$B$23+(MAX(A:A)*50-(SUM(C:C)+$B$23))/MAX(A:A) -> 62.234474 | F7: =RANK(E7,E:E) -> 4
A8: 7 | B8: Jordy | C8: 51 | D8: 863 | E8: =C8+SUM(INDIRECT("Potverdeling!B"&RANK(D8,D:D)&":B"&RANK(D8,D:D)+COUNTIF(D:D,D8)-1))/COUNTIF(D:D,D8)*$B$23+(MAX(A:A)*50-(SUM(C:C)+$B$23))/MAX(A:A) -> 53.804474 | F8: =RANK(E8,E:E) -> 8
A9: 8 | B9: Japie | C9: 49.9 | D9: 943 | E9: =C9+SUM(INDIRECT("Potverdeling!B"&RANK(D9,D:D)&":B"&RANK(D9,D:D)+COUNTIF(D:D,D9)-1))/COUNTIF(D:D,D9)*$B$23+(MAX(A:A)*50-(SUM(C:C)+$B$23))/MAX(A:A) -> 53.913474 | F9: =RANK(E9,E:E) -> 7
A10: 9 | B10: Scheetmans | C10: 49.55 | D10: 822 | E10: =C10+SUM(INDIRECT("Potverdeling!B"&RANK(D10,D:D)&":B"&RANK(D10,D:D)+COUNTIF(D:D,D10)-1))/COUNTIF(D:D,D10)*$B$23+(MAX(A:A)*50-(SUM(C:C)+$B$23))/MAX(A:A) -> 51.951474 | F10: =RANK(E10,E:E) -> 9
A11: 10 | B11: Guust | C11: 46.3 | D11: 816 | E11: =C11+SUM(INDIRECT("Potverdeling!B"&RANK(D11,D:D)&":B"&RANK(D11,D:D)+COUNTIF(D:D,D11)-1))/COUNTIF(D:D,D11)*$B$23+(MAX(A:A)*50-(SUM(C:C)+$B$23))/MAX(A:A) -> 48.298474 | F11: =RANK(E11,E:E) -> 10
A12: 11 | B12: GMV | C12: 44.45 | D12: 771 | E12: =C12+SUM(INDIRECT("Potverdeling!B"&RANK(D12,D:D)&":B"&RANK(D12,D:D)+COUNTIF(D:D,D12)-1))/COUNTIF(D:D,D12)*$B$23+(MAX(A:A)*50-(SUM(C:C)+$B$23))/MAX(A:A) -> 45.239474 | F12: =RANK(E12,E:E) -> 11
A13: 12 | B13: Latasa | C13: 43.8 | D13: 798 | E13: =C13+SUM(INDIRECT("Potverdeling!B"&RANK(D13,D:D)&":B"&RANK(D13,D:D)+COUNTIF(D:D,D13)-1))/COUNTIF(D:D,D13)*$B$23+(MAX(A:A)*50-(SUM(C:C)+$B$23))/MAX(A:A) -> 44.589474 | F13: =RANK(E13,E:E) -> 12
... A20: 19 | B20: Luca | C20: 18.4 | D20: 371 | E20: =C20+SUM(INDIRECT("Potverdeling!B"&RANK(D20,D:D)&":B"&RANK(D20,D:D)+COUNTIF(D:D,D20)-1))/COUNTIF(D:D,D20)*$B$23+(MAX(A:A)*50-(SUM(C:C)+$B$23))/MAX(A:A) -> 19.189474 | F20: =RANK(E20,E:E) -> 19
A23: POT | B23: 40.3

Sheet 2017
A1: Plek zonder pot | B1: Deelnemer | C1: Opbrengst | D1: Punten | E1: Opbrengst met pot | F1: Plek met pot
A2: 1 | B2: Japie | C2: 65.75 | D2: 1172 | E2: =C2+SUM(INDIRECT("Potverdeling!B"&RANK(D2,D:D)&":B"&RANK(D2,D:D)+COUNTIF(D:D,D2)-1))/COUNTIF(D:D,D2)*$B$23+(MAX(A:A)*50-(SUM(C:C)+$B$23))/MAX(A:A) -> 74.856842 | F2: =RANK(E2,E:E) -> 1
A3: 2 | B3: Laatste man | C3: 62.75 | D3: 1145 | E3: =C3+SUM(INDIRECT("Potverdeling!B"&RANK(D3,D:D)&":B"&RANK(D3,D:D)+COUNTIF(D:D,D3)-1))/COUNTIF(D:D,D3)*$B$23+(MAX(A:A)*50-(SUM(C:C)+$B$23))/MAX(A:A) -> 70.661342 | F3: =RANK(E3,E:E) -> 2
A4: 3 | B4: GMV | C4: 59.75 | D4: 1020 | E4: =C4+SUM(INDIRECT("Potverdeling!B"&RANK(D4,D:D)&":B"&RANK(D4,D:D)+COUNTIF(D:D,D4)-1))/COUNTIF(D:D,D4)*$B$23+(MAX(A:A)*50-(SUM(C:C)+$B$23))/MAX(A:A) -> 66.864342 | F4: =RANK(E4,E:E) -> 3
A5: 4 | B5: Latasa | C5: 56.05 | D5: 979 | E5: =C5+SUM(INDIRECT("Potverdeling!B"&RANK(D5,D:D)&":B"&RANK(D5,D:D)+COUNTIF(D:D,D5)-1))/COUNTIF(D:D,D5)*$B$23+(MAX(A:A)*50-(SUM(C:C)+$B$23))/MAX(A:A) -> 61.968842 | F5: =RANK(E5,E:E) -> 4
A6: 5 | B6: Fairplay | C6: 54.7 | D6: 880 | E6: =C6+SUM(INDIRECT("Potverdeling!B"&RANK(D6,D:D)&":B"&RANK(D6,D:D)+COUNTIF(D:D,D6)-1))/COUNTIF(D:D,D6)*$B$23+(MAX(A:A)*50-(SUM(C:C)+$B$23))/MAX(A:A) -> 58.227842 | F6: =RANK(E6,E:E) -> 5
A7: 6 | B7: Jordy | C7: 51.35 | D7: 906 | E7: =C7+SUM(INDIRECT("Potverdeling!B"&RANK(D7,D:D)&":B"&RANK(D7,D:D)+COUNTIF(D:D,D7)-1))/COUNTIF(D:D,D7)*$B$23+(MAX(A:A)*50-(SUM(C:C)+$B$23))/MAX(A:A) -> 55.674842 | F7: =RANK(E7,E:E) -> 6
A8: 7 | B8: TEF | C8: 49.75 | D8: 948 | E8: =C8+SUM(INDIRECT("Potverdeling!B"&RANK(D8,D:D)&":B"&RANK(D8,D:D)+COUNTIF(D:D,D8)-1))/COUNTIF(D:D,D8)*$B$23+(MAX(A:A)*50-(SUM(C:C)+$B$23))/MAX(A:A) -> 54.871842 | F8: =RANK(E8,E:E) -> 7
A9: 8 | B9: Nutwood | C9: 47.9 | D9: 764 | E9: =C9+SUM(INDIRECT("Potverdeling!B"&RANK(D9,D:D)&":B"&RANK(D9,D:D)+COUNTIF(D:D,D9)-1))/COUNTIF(D:D,D9)*$B$23+(MAX(A:A)*50-(SUM(C:C)+$B$23))/MAX(A:A) -> 49.036842 | F9: =RANK(E9,E:E) -> 8
A10: 9 | B10: Booggie | C10: 46.7 | D10: 775 | E10: =C10+SUM(INDIRECT("Potverdeling!B"&RANK(D10,D:D)&":B"&RANK(D10,D:D)+COUNTIF(D:D,D10)-1))/COUNTIF(D:D,D10)*$B$23+(MAX(A:A)*50-(SUM(C:C)+$B$23))/MAX(A:A) -> 47.836842 | F10: =RANK(E10,E:E) -> 10
A11: 10 | B11: Zwieler | C11: 45.25 | D11: 846 | E11: =C11+SUM(INDIRECT("Potverdeling!B"&RANK(D11,D:D)&":B"&RANK(D11,D:D)+COUNTIF(D:D,D11)-1))/COUNTIF(D:D,D11)*$B$23+(MAX(A:A)*50-(SUM(C:C)+$B$23))/MAX(A:A) -> 47.980842 | F11: =RANK(E11,E:E) -> 9
A12: 11 | B12: JoeDombrowskiFan | C12: 45.25 | D12: 689 | E12: =C12+SUM(INDIRECT("Potverdeling!B"&RANK(D12,D:D)&":B"&RANK(D12,D:D)+COUNTIF(D:D,D12)-1))/COUNTIF(D:D,D12)*$B$23+(MAX(A:A)*50-(SUM(C:C)+$B$23))/MAX(A:A) -> 46.386842 | F12: =RANK(E12,E:E) -> 11
A13: 12 | B13: Snatch | C13: 43.3 | D13: 802 | E13: =C13+SUM(INDIRECT("Potverdeling!B"&RANK(D13,D:D)&":B"&RANK(D13,D:D)+COUNTIF(D:D,D13)-1))/COUNTIF(D:D,D13)*$B$23+(MAX(A:A)*50-(SUM(C:C)+$B$23))/MAX(A:A) -> 45.632342 | F13: =RANK(E13,E:E) -> 13
... A20: 19 | B20: YBA | C20: 26.25 | D20: 579 | E20: =C20+SUM(INDIRECT("Potverdeling!B"&RANK(D20,D:D)&":B"&RANK(D20,D:D)+COUNTIF(D:D,D20)-1))/COUNTIF(D:D,D20)*$B$23+(MAX(A:A)*50-(SUM(C:C)+$B$23))/MAX(A:A) -> 27.386842 | F20: =RANK(E20,E:E) -> 19
A23: POT | B23: 39.85

Sheet 2016
A1: Plek zonder pot | B1: Deelnemer | C1: Opbrengst | D1: Punten | E1: Opbrengst met pot | F1: Plek met pot
A2: 1 | B2: TEF | C2: 76.25 | D2: 1273 | E2: =C2+SUM(INDIRECT("Potverdeling!B"&RANK(D2,D:D)&":B"&RANK(D2,D:D)+COUNTIF(D:D,D2)-1))/COUNTIF(D:D,D2)*$B$23+(MAX(A:A)*50-(SUM(C:C)+$B$23))/MAX(A:A) -> 90.242105 | F2: =RANK(E2,E:E) -> 1
A3: 2 | B3: Guust | C3: 61.6 | D3: 961 | E3: =C3+SUM(INDIRECT("Potverdeling!B"&RANK(D3,D:D)&":B"&RANK(D3,D:D)+COUNTIF(D:D,D3)-1))/COUNTIF(D:D,D3)*$B$23+(MAX(A:A)*50-(SUM(C:C)+$B$23))/MAX(A:A) -> 69.492105 | F3: =RANK(E3,E:E) -> 2
A4: 3 | B4: Jordy | C4: 56.45 | D4: 1107 | E4: =C4+SUM(INDIRECT("Potverdeling!B"&RANK(D4,D:D)&":B"&RANK(D4,D:D)+COUNTIF(D:D,D4)-1))/COUNTIF(D:D,D4)*$B$23+(MAX(A:A)*50-(SUM(C:C)+$B$23))/MAX(A:A) -> 68.612105 | F4: =RANK(E4,E:E) -> 3
A5: 4 | B5: Vinnie | C5: 54.9 | D5: 1091 | E5: =C5+SUM(INDIRECT("Potverdeling!B"&RANK(D5,D:D)&":B"&RANK(D5,D:D)+COUNTIF(D:D,D5)-1))/COUNTIF(D:D,D5)*$B$23+(MAX(A:A)*50-(SUM(C:C)+$B$23))/MAX(A:A) -> 65.842105 | F5: =RANK(E5,E:E) -> 4
A6: 5 | B6: JoeDombrowskiFan | C6: 52.2 | D6: 928 | E6: =C6+SUM(INDIRECT("Potverdeling!B"&RANK(D6,D:D)&":B"&RANK(D6,D:D)+COUNTIF(D:D,D6)-1))/COUNTIF(D:D,D6)*$B$23+(MAX(A:A)*50-(SUM(C:C)+$B$23))/MAX(A:A) -> 58.872105 | F6: =RANK(E6,E:E) -> 5
A7: 6 | B7: Latasa | C7: 49.45 | D7: 885 | E7: =C7+SUM(INDIRECT("Potverdeling!B"&RANK(D7,D:D)&":B"&RANK(D7,D:D)+COUNTIF(D:D,D7)-1))/COUNTIF(D:D,D7)*$B$23+(MAX(A:A)*50-(SUM(C:C)+$B$23))/MAX(A:A) -> 54.902105 | F7: =RANK(E7,E:E) -> 7
A8: 7 | B8: Japie | C8: 48.65 | D8: 978 | E8: =C8+SUM(INDIRECT("Potverdeling!B"&RANK(D8,D:D)&":B"&RANK(D8,D:D)+COUNTIF(D:D,D8)-1))/COUNTIF(D:D,D8)*$B$23+(MAX(A:A)*50-(SUM(C:C)+$B$23))/MAX(A:A) -> 57.762105 | F8: =RANK(E8,E:E) -> 6
A9: 8 | B9: Paultje | C9: 45.55 | D9: 842 | E9: =C9+SUM(INDIRECT("Potverdeling!B"&RANK(D9,D:D)&":B"&RANK(D9,D:D)+COUNTIF(D:D,D9)-1))/COUNTIF(D:D,D9)*$B$23+(MAX(A:A)*50-(SUM(C:C)+$B$23))/MAX(A:A) -> 50.392105 | F9: =RANK(E9,E:E) -> 8
A10: 9 | B10: YBA | C10: 42.8 | D10: 802 | E10: =C10+SUM(INDIRECT("Potverdeling!B"&RANK(D10,D:D)&":B"&RANK(D10,D:D)+COUNTIF(D:D,D10)-1))/COUNTIF(D:D,D10)*$B$23+(MAX(A:A)*50-(SUM(C:C)+$B$23))/MAX(A:A) -> 47.032105 | F10: =RANK(E10,E:E) -> 9
A11: 10 | B11: Fairplay | C11: 42.6 | D11: 687 | E11: =C11+SUM(INDIRECT("Potverdeling!B"&RANK(D11,D:D)&":B"&RANK(D11,D:D)+COUNTIF(D:D,D11)-1))/COUNTIF(D:D,D11)*$B$23+(MAX(A:A)*50-(SUM(C:C)+$B$23))/MAX(A:A) -> 44.392105 | F11: =RANK(E11,E:E) -> 10
A12: 11 | B12: Booggie | C12: 40.75 | D12: 771 | E12: =C12+SUM(INDIRECT("Potverdeling!B"&RANK(D12,D:D)&":B"&RANK(D12,D:D)+COUNTIF(D:D,D12)-1))/COUNTIF(D:D,D12)*$B$23+(MAX(A:A)*50-(SUM(C:C)+$B$23))/MAX(A:A) -> 44.372105 | F12: =RANK(E12,E:E) -> 11
A13: 12 | B13: Nutwood | C13: 39.25 | D13: 711 | E13: =C13+SUM(INDIRECT("Potverdeling!B"&RANK(D13,D:D)&":B"&RANK(D13,D:D)+COUNTIF(D:D,D13)-1))/COUNTIF(D:D,D13)*$B$23+(MAX(A:A)*50-(SUM(C:C)+$B$23))/MAX(A:A) -> 41.042105 | F13: =RANK(E13,E:E) -> 12
... A20: 19 | B20: Zwieler | C20: 29 | D20: 570 | E20: =C20+SUM(INDIRECT("Potverdeling!B"&RANK(D20,D:D)&":B"&RANK(D20,D:D)+COUNTIF(D:D,D20)-1))/COUNTIF(D:D,D20)*$B$23+(MAX(A:A)*50-(SUM(C:C)+$B$23))/MAX(A:A) -> 30.792105 | F20: =RANK(E20,E:E) -> 19
A23: POT | B23: 61

Sheet 2015
A1: Plek zonder pot | B1: Deelnemer | C1: Opbrengst | D1: Punten | E1: Opbrengst met pot | F1: Plek met pot
A2: 1 | B2: Zwieler | C2: 61.45 | D2: 1072 | E2: =C2+SUM(INDIRECT("Potverdeling!B"&RANK(D2,D:D)&":B"&RANK(D2,D:D)+COUNTIF(D:D,D2)-1))/COUNTIF(D:D,D2)*$B$23+(MAX(A:A)*50-(SUM(C:C)+$B$23))/MAX(A:A) -> 77.309474 | F2: =RANK(E2,E:E) -> 1
A3: 2 | B3: TEF | C3: 59.05 | D3: 1017 | E3: =C3+SUM(INDIRECT("Potverdeling!B"&RANK(D3,D:D)&":B"&RANK(D3,D:D)+COUNTIF(D:D,D3)-1))/COUNTIF(D:D,D3)*$B$23+(MAX(A:A)*50-(SUM(C:C)+$B$23))/MAX(A:A) -> 71.129474 | F3: =RANK(E3,E:E) -> 2
A4: 3 | B4: Snatch | C4: 58.55 | D4: 933 | E4: =C4+SUM(INDIRECT("Potverdeling!B"&RANK(D4,D:D)&":B"&RANK(D4,D:D)+COUNTIF(D:D,D4)-1))/COUNTIF(D:D,D4)*$B$23+(MAX(A:A)*50-(SUM(C:C)+$B$23))/MAX(A:A) -> 66.849474 | F4: =RANK(E4,E:E) -> 4
A5: 4 | B5: Jordy | C5: 56.2 | D5: 1035 | E5: =C5+SUM(INDIRECT("Potverdeling!B"&RANK(D5,D:D)&":B"&RANK(D5,D:D)+COUNTIF(D:D,D5)-1))/COUNTIF(D:D,D5)*$B$23+(MAX(A:A)*50-(SUM(C:C)+$B$23))/MAX(A:A) -> 69.791474 | F5: =RANK(E5,E:E) -> 3
A6: 5 | B6: Paultje | C6: 52.8 | D6: 941 | E6: =C6+SUM(INDIRECT("Potverdeling!B"&RANK(D6,D:D)&":B"&RANK(D6,D:D)+COUNTIF(D:D,D6)-1))/COUNTIF(D:D,D6)*$B$23+(MAX(A:A)*50-(SUM(C:C)+$B$23))/MAX(A:A) -> 62.611474 | F6: =RANK(E6,E:E) -> 5
A7: 6 | B7: Latasa | C7: 50.3 | D7: 862 | E7: =C7+SUM(INDIRECT("Potverdeling!B"&RANK(D7,D:D)&":B"&RANK(D7,D:D)+COUNTIF(D:D,D7)-1))/COUNTIF(D:D,D7)*$B$23+(MAX(A:A)*50-(SUM(C:C)+$B$23))/MAX(A:A) -> 55.575474 | F7: =RANK(E7,E:E) -> 7
A8: 7 | B8: Booggie | C8: 50.15 | D8: 930 | E8: =C8+SUM(INDIRECT("Potverdeling!B"&RANK(D8,D:D)&":B"&RANK(D8,D:D)+COUNTIF(D:D,D8)-1))/COUNTIF(D:D,D8)*$B$23+(MAX(A:A)*50-(SUM(C:C)+$B$23))/MAX(A:A) -> 56.937474 | F8: =RANK(E8,E:E) -> 6
A9: 8 | B9: Vinnie | C9: 48.7 | D9: 847 | E9: =C9+SUM(INDIRECT("Potverdeling!B"&RANK(D9,D:D)&":B"&RANK(D9,D:D)+COUNTIF(D:D,D9)-1))/COUNTIF(D:D,D9)*$B$23+(MAX(A:A)*50-(SUM(C:C)+$B$23))/MAX(A:A) -> 53.219474 | F9: =RANK(E9,E:E) -> 8
A10: 9 | B10: Fairplay | C10: 45.4 | D10: 740 | E10: =C10+SUM(INDIRECT("Potverdeling!B"&RANK(D10,D:D)&":B"&RANK(D10,D:D)+COUNTIF(D:D,D10)-1))/COUNTIF(D:D,D10)*$B$23+(MAX(A:A)*50-(SUM(C:C)+$B$23))/MAX(A:A) -> 48.407474 | F10: =RANK(E10,E:E) -> 10
A11: 10 | B11: Guust | C11: 44.95 | D11: 811 | E11: =C11+SUM(INDIRECT("Potverdeling!B"&RANK(D11,D:D)&":B"&RANK(D11,D:D)+COUNTIF(D:D,D11)-1))/COUNTIF(D:D,D11)*$B$23+(MAX(A:A)*50-(SUM(C:C)+$B$23))/MAX(A:A) -> 48.713474 | F11: =RANK(E11,E:E) -> 9
A12: 11 | B12: GMV | C12: 44.5 | D12: 705 | E12: =C12+SUM(INDIRECT("Potverdeling!B"&RANK(D12,D:D)&":B"&RANK(D12,D:D)+COUNTIF(D:D,D12)-1))/COUNTIF(D:D,D12)*$B$23+(MAX(A:A)*50-(SUM(C:C)+$B$23))/MAX(A:A) -> 45.239474 | F12: =RANK(E12,E:E) -> 11
A13: 12 | B13: Scheetmans | C13: 41.3 | D13: 711 | E13: =C13+SUM(INDIRECT("Potverdeling!B"&RANK(D13,D:D)&":B"&RANK(D13,D:D)+COUNTIF(D:D,D13)-1))/COUNTIF(D:D,D13)*$B$23+(MAX(A:A)*50-(SUM(C:C)+$B$23))/MAX(A:A) -> 42.039474 | F13: =RANK(E13,E:E) -> 12
... A20: 19 | B20: YBA | C20: 27.9 | D20: 599 | E20: =C20+SUM(INDIRECT("Potverdeling!B"&RANK(D20,D:D)&":B"&RANK(D20,D:D)+COUNTIF(D:D,D20)-1))/COUNTIF(D:D,D20)*$B$23+(MAX(A:A)*50-(SUM(C:C)+$B$23))/MAX(A:A) -> 28.639474 | F20: =RANK(E20,E:E) -> 19
A23: POT | B23: 75.6

Sheet 2014
A1: Plek zonder pot | B1: Deelnemer | C1: Opbrengst | D1: Punten | E1: Opbrengst met pot | F1: Plek met pot
A2: 1 | B2: Japie | C2: 70.5 | D2: 950 | E2: =C2+SUM(INDIRECT("Potverdeling!B"&RANK(D2,D:D)&":B"&RANK(D2,D:D)+COUNTIF(D:D,D2)-1))/COUNTIF(D:D,D2)*$B$23+(MAX(A:A)*50-(SUM(C:C)+$B$23))/MAX(A:A) -> 80.658974 | F2: =RANK(E2,E:E) -> 1
A3: 2 | B3: Vinnie | C3: 67.85 | D3: 933 | E3: =C3+SUM(INDIRECT("Potverdeling!B"&RANK(D3,D:D)&":B"&RANK(D3,D:D)+COUNTIF(D:D,D3)-1))/COUNTIF(D:D,D3)*$B$23+(MAX(A:A)*50-(SUM(C:C)+$B$23))/MAX(A:A) -> 76.741974 | F3: =RANK(E3,E:E) -> 3
A4: 3 | B4: Scheetmans | C4: 65.95 | D4: 1022 | E4: =C4+SUM(INDIRECT("Potverdeling!B"&RANK(D4,D:D)&":B"&RANK(D4,D:D)+COUNTIF(D:D,D4)-1))/COUNTIF(D:D,D4)*$B$23+(MAX(A:A)*50-(SUM(C:C)+$B$23))/MAX(A:A) -> 78.009474 | F4: =RANK(E4,E:E) -> 2
A5: 4 | B5: Chef | C5: 65 | D5: 856 | E5: =C5+SUM(INDIRECT("Potverdeling!B"&RANK(D5,D:D)&":B"&RANK(D5,D:D)+COUNTIF(D:D,D5)-1))/COUNTIF(D:D,D5)*$B$23+(MAX(A:A)*50-(SUM(C:C)+$B$23))/MAX(A:A) -> 71.991474 | F5: =RANK(E5,E:E) -> 4
A6: 5 | B6: Booggie | C6: 56.4 | D6: 780 | E6: =C6+SUM(INDIRECT("Potverdeling!B"&RANK(D6,D:D)&":B"&RANK(D6,D:D)+COUNTIF(D:D,D6)-1))/COUNTIF(D:D,D6)*$B$23+(MAX(A:A)*50-(SUM(C:C)+$B$23))/MAX(A:A) -> 62.124474 | F6: =RANK(E6,E:E) -> 5
A7: 6 | B7: Luca | C7: 56.15 | D7: 646 | E7: =C7+SUM(INDIRECT("Potverdeling!B"&RANK(D7,D:D)&":B"&RANK(D7,D:D)+COUNTIF(D:D,D7)-1))/COUNTIF(D:D,D7)*$B$23+(MAX(A:A)*50-(SUM(C:C)+$B$23))/MAX(A:A) -> 58.073474 | F7: =RANK(E7,E:E) -> 6
A8: 7 | B8: Paultje | C8: 51.05 | D8: 731 | E8: =C8+SUM(INDIRECT("Potverdeling!B"&RANK(D8,D:D)&":B"&RANK(D8,D:D)+COUNTIF(D:D,D8)-1))/COUNTIF(D:D,D8)*$B$23+(MAX(A:A)*50-(SUM(C:C)+$B$23))/MAX(A:A) -> 55.507474 | F8: =RANK(E8,E:E) -> 7
A9: 8 | B9: Nutwood | C9: 48.2 | D9: 699 | E9: =C9+SUM(INDIRECT("Potverdeling!B"&RANK(D9,D:D)&":B"&RANK(D9,D:D)+COUNTIF(D:D,D9)-1))/COUNTIF(D:D,D9)*$B$23+(MAX(A:A)*50-(SUM(C:C)+$B$23))/MAX(A:A) -> 51.390474 | F9: =RANK(E9,E:E) -> 8
A10: 9 | B10: Fairplay | C10: 44.3 | D10: 482 | E10: =C10+SUM(INDIRECT("Potverdeling!B"&RANK(D10,D:D)&":B"&RANK(D10,D:D)+COUNTIF(D:D,D10)-1))/COUNTIF(D:D,D10)*$B$23+(MAX(A:A)*50-(SUM(C:C)+$B$23))/MAX(A:A) -> 43.689474 | F10: =RANK(E10,E:E) -> 11
A11: 10 | B11: Latasa | C11: 44 | D11: 659 | E11: =C11+SUM(INDIRECT("Potverdeling!B"&RANK(D11,D:D)&":B"&RANK(D11,D:D)+COUNTIF(D:D,D11)-1))/COUNTIF(D:D,D11)*$B$23+(MAX(A:A)*50-(SUM(C:C)+$B$23))/MAX(A:A) -> 46.556974 | F11: =RANK(E11,E:E) -> 9
A12: 11 | B12: IKE | C12: 43.7 | D12: 624 | E12: =C12+SUM(INDIRECT("Potverdeling!B"&RANK(D12,D:D)&":B"&RANK(D12,D:D)+COUNTIF(D:D,D12)-1))/COUNTIF(D:D,D12)*$B$23+(MAX(A:A)*50-(SUM(C:C)+$B$23))/MAX(A:A) -> 44.989974 | F12: =RANK(E12,E:E) -> 10
A13: 12 | B13: Arneboy | C13: 39.7 | D13: 519 | E13: =C13+SUM(INDIRECT("Potverdeling!B"&RANK(D13,D:D)&":B"&RANK(D13,D:D)+COUNTIF(D:D,D13)-1))/COUNTIF(D:D,D13)*$B$23+(MAX(A:A)*50-(SUM(C:C)+$B$23))/MAX(A:A) -> 39.089474 | F13: =RANK(E13,E:E) -> 12
... A20: 19 | B20: Snatch | C20: 31.75 | D20: 393 | E20: =C20+SUM(INDIRECT("Potverdeling!B"&RANK(D20,D:D)&":B"&RANK(D20,D:D)+COUNTIF(D:D,D20)-1))/COUNTIF(D:D,D20)*$B$23+(MAX(A:A)*50-(SUM(C:C)+$B$23))/MAX(A:A) -> 31.139474 | F20: =RANK(E20,E:E) -> 19
A23: POT | B23: 63.35

Sheet 2013
A1: Plek zonder pot | B1: Deelnemer | C1: Opbrengst | D1: Punten | E1: Opbrengst met pot | F1: Plek met pot
A2: 1 | B2: Chef | C2: 79.75 | D2: 999 | E2: =C2+SUM(INDIRECT("Potverdeling!B"&RANK(D2,D:D)&":B"&RANK(D2,D:D)+COUNTIF(D:D,D2)-1))/COUNTIF(D:D,D2)*$B$23+(MAX(A:A)*50-(SUM(C:C)+$B$23))/MAX(A:A) -> 92.428421 | F2: =RANK(E2,E:E) -> 1
A3: 2 | B3: TEF | C3: 64.9 | D3: 994 | E3: =C3+SUM(INDIRECT("Potverdeling!B"&RANK(D3,D:D)&":B"&RANK(D3,D:D)+COUNTIF(D:D,D3)-1))/COUNTIF(D:D,D3)*$B$23+(MAX(A:A)*50-(SUM(C:C)+$B$23))/MAX(A:A) -> 75.716921 | F3: =RANK(E3,E:E) -> 2
A4: 3 | B4: Nutwood | C4: 60.3 | D4: 834 | E4: =C4+SUM(INDIRECT("Potverdeling!B"&RANK(D4,D:D)&":B"&RANK(D4,D:D)+COUNTIF(D:D,D4)-1))/COUNTIF(D:D,D4)*$B$23+(MAX(A:A)*50-(SUM(C:C)+$B$23))/MAX(A:A) -> 69.875921 | F4: =RANK(E4,E:E) -> 3
A5: 4 | B5: Guust | C5: 55.4 | D5: 827 | E5: =C5+SUM(INDIRECT("Potverdeling!B"&RANK(D5,D:D)&":B"&RANK(D5,D:D)+COUNTIF(D:D,D5)-1))/COUNTIF(D:D,D5)*$B$23+(MAX(A:A)*50-(SUM(C:C)+$B$23))/MAX(A:A) -> 63.114421 | F5: =RANK(E5,E:E) -> 4
A6: 5 | B6: Latasa | C6: 54 | D6: 782 | E6: =C6+SUM(INDIRECT("Potverdeling!B"&RANK(D6,D:D)&":B"&RANK(D6,D:D)+COUNTIF(D:D,D6)-1))/COUNTIF(D:D,D6)*$B$23+(MAX(A:A)*50-(SUM(C:C)+$B$23))/MAX(A:A) -> 60.473421 | F6: =RANK(E6,E:E) -> 5
A7: 6 | B7: Vinnie | C7: 53.5 | D7: 687 | E7: =C7+SUM(INDIRECT("Potverdeling!B"&RANK(D7,D:D)&":B"&RANK(D7,D:D)+COUNTIF(D:D,D7)-1))/COUNTIF(D:D,D7)*$B$23+(MAX(A:A)*50-(SUM(C:C)+$B$23))/MAX(A:A) -> 57.491421 | F7: =RANK(E7,E:E) -> 6
A8: 7 | B8: Luca | C8: 51.65 | D8: 657 | E8: =C8+SUM(INDIRECT("Potverdeling!B"&RANK(D8,D:D)&":B"&RANK(D8,D:D)+COUNTIF(D:D,D8)-1))/COUNTIF(D:D,D8)*$B$23+(MAX(A:A)*50-(SUM(C:C)+$B$23))/MAX(A:A) -> 53.779921 | F8: =RANK(E8,E:E) -> 9
A9: 8 | B9: IKE | C9: 51.25 | D9: 764 | E9: =C9+SUM(INDIRECT("Potverdeling!B"&RANK(D9,D:D)&":B"&RANK(D9,D:D)+COUNTIF(D:D,D9)-1))/COUNTIF(D:D,D9)*$B$23+(MAX(A:A)*50-(SUM(C:C)+$B$23))/MAX(A:A) -> 56.482421 | F9: =RANK(E9,E:E) -> 7
A10: 9 | B10: Snatch | C10: 50.5 | D10: 676 | E10: =C10+SUM(INDIRECT("Potverdeling!B"&RANK(D10,D:D)&":B"&RANK(D10,D:D)+COUNTIF(D:D,D10)-1))/COUNTIF(D:D,D10)*$B$23+(MAX(A:A)*50-(SUM(C:C)+$B$23))/MAX(A:A) -> 53.870921 | F10: =RANK(E10,E:E) -> 8
A11: 10 | B11: Speedyy | C11: 49.05 | D11: 667 | E11: =C11+SUM(INDIRECT("Potverdeling!B"&RANK(D11,D:D)&":B"&RANK(D11,D:D)+COUNTIF(D:D,D11)-1))/COUNTIF(D:D,D11)*$B$23+(MAX(A:A)*50-(SUM(C:C)+$B$23))/MAX(A:A) -> 51.800421 | F11: =RANK(E11,E:E) -> 10
A12: 11 | B12: Scheetmans | C12: 45.35 | D12: 590 | E12: =C12+SUM(INDIRECT("Potverdeling!B"&RANK(D12,D:D)&":B"&RANK(D12,D:D)+COUNTIF(D:D,D12)-1))/COUNTIF(D:D,D12)*$B$23+(MAX(A:A)*50-(SUM(C:C)+$B$23))/MAX(A:A) -> 45.618421 | F12: =RANK(E12,E:E) -> 11
A13: 12 | B13: Japie | C13: 44.3 | D13: 562 | E13: =C13+SUM(INDIRECT("Potverdeling!B"&RANK(D13,D:D)&":B"&RANK(D13,D:D)+COUNTIF(D:D,D13)-1))/COUNTIF(D:D,D13)*$B$23+(MAX(A:A)*50-(SUM(C:C)+$B$23))/MAX(A:A) -> 44.568421 | F13: =RANK(E13,E:E) -> 12
... A20: 19 | B20: Paultje | C20: 23.55 | D20: 292 | E20: =C20+SUM(INDIRECT("Potverdeling!B"&RANK(D20,D:D)&":B"&RANK(D20,D:D)+COUNTIF(D:D,D20)-1))/COUNTIF(D:D,D20)*$B$23+(MAX(A:A)*50-(SUM(C:C)+$B$23))/MAX(A:A) -> 23.818421 | F20: =RANK(E20,E:E) -> 19
A23: POT | B23: 62.05

Sheet 2012
A1: Plek zonder pot | B1: Deelnemer | C1: Opbrengst | D1: Punten | E1: Opbrengst met pot | F1: Plek met pot
A2: 1 | B2: IKE | C2: 73.55 | D2: 895 | E2: =C2+SUM(INDIRECT("Potverdeling!B"&RANK(D2,D:D)&":B"&RANK(D2,D:D)+COUNTIF(D:D,D2)-1))/COUNTIF(D:D,D2)*$B$23+(MAX(A:A)*50-(SUM(C:C)+$B$23))/MAX(A:A) -> 83.418889 | F2: =RANK(E2,E:E) -> 1
A3: 2 | B3: Luca | C3: 67.4 | D3: 886 | E3: =C3+SUM(INDIRECT("Potverdeling!B"&RANK(D3,D:D)&":B"&RANK(D3,D:D)+COUNTIF(D:D,D3)-1))/COUNTIF(D:D,D3)*$B$23+(MAX(A:A)*50-(SUM(C:C)+$B$23))/MAX(A:A) -> 75.366889 | F3: =RANK(E3,E:E) -> 2
A4: 3 | B4: Fairplay | C4: 65.7 | D4: 866 | E4: =C4+SUM(INDIRECT("Potverdeling!B"&RANK(D4,D:D)&":B"&RANK(D4,D:D)+COUNTIF(D:D,D4)-1))/COUNTIF(D:D,D4)*$B$23+(MAX(A:A)*50-(SUM(C:C)+$B$23))/MAX(A:A) -> 72.398889 | F4: =RANK(E4,E:E) -> 3
A5: 4 | B5: Vinnie | C5: 62.3 | D5: 815 | E5: =C5+SUM(INDIRECT("Potverdeling!B"&RANK(D5,D:D)&":B"&RANK(D5,D:D)+COUNTIF(D:D,D5)-1))/COUNTIF(D:D,D5)*$B$23+(MAX(A:A)*50-(SUM(C:C)+$B$23))/MAX(A:A) -> 67.096889 | F5: =RANK(E5,E:E) -> 4
A6: 5 | B6: Paultje | C6: 60.15 | D6: 702 | E6: =C6+SUM(INDIRECT("Potverdeling!B"&RANK(D6,D:D)&":B"&RANK(D6,D:D)+COUNTIF(D:D,D6)-1))/COUNTIF(D:D,D6)*$B$23+(MAX(A:A)*50-(SUM(C:C)+$B$23))/MAX(A:A) -> 60.508889 | F6: =RANK(E6,E:E) -> 6
A7: 6 | B7: YBA | C7: 57.2 | D7: 799 | E7: =C7+SUM(INDIRECT("Potverdeling!B"&RANK(D7,D:D)&":B"&RANK(D7,D:D)+COUNTIF(D:D,D7)-1))/COUNTIF(D:D,D7)*$B$23+(MAX(A:A)*50-(SUM(C:C)+$B$23))/MAX(A:A) -> 60.728889 | F7: =RANK(E7,E:E) -> 5
A8: 7 | B8: Jeroen | C8: 54.2 | D8: 777 | E8: =C8+SUM(INDIRECT("Potverdeling!B"&RANK(D8,D:D)&":B"&RANK(D8,D:D)+COUNTIF(D:D,D8)-1))/COUNTIF(D:D,D8)*$B$23+(MAX(A:A)*50-(SUM(C:C)+$B$23))/MAX(A:A) -> 56.460889 | F8: =RANK(E8,E:E) -> 7
A9: 8 | B9: Guust | C9: 52.8 | D9: 752 | E9: =C9+SUM(INDIRECT("Potverdeling!B"&RANK(D9,D:D)&":B"&RANK(D9,D:D)+COUNTIF(D:D,D9)-1))/COUNTIF(D:D,D9)*$B$23+(MAX(A:A)*50-(SUM(C:C)+$B$23))/MAX(A:A) -> 53.792889 | F9: =RANK(E9,E:E) -> 8
A10: 9 | B10: Snatch | C10: 49.3 | D10: 649 | E10: =C10+SUM(INDIRECT("Potverdeling!B"&RANK(D10,D:D)&":B"&RANK(D10,D:D)+COUNTIF(D:D,D10)-1))/COUNTIF(D:D,D10)*$B$23+(MAX(A:A)*50-(SUM(C:C)+$B$23))/MAX(A:A) -> 49.024889 | F10: =RANK(E10,E:E) -> 9
A11: 10 | B11: Nutwood | C11: 46.9 | D11: 628 | E11: =C11+SUM(INDIRECT("Potverdeling!B"&RANK(D11,D:D)&":B"&RANK(D11,D:D)+COUNTIF(D:D,D11)-1))/COUNTIF(D:D,D11)*$B$23+(MAX(A:A)*50-(SUM(C:C)+$B$23))/MAX(A:A) -> 44.088889 | F11: =RANK(E11,E:E) -> 11
A12: 11 | B12: Chef | C12: 45.2 | D12: 633 | E12: =C12+SUM(INDIRECT("Potverdeling!B"&RANK(D12,D:D)&":B"&RANK(D12,D:D)+COUNTIF(D:D,D12)-1))/COUNTIF(D:D,D12)*$B$23+(MAX(A:A)*50-(SUM(C:C)+$B$23))/MAX(A:A) -> 44.290889 | F12: =RANK(E12,E:E) -> 10
A13: 12 | B13: Scheetmans | C13: 42.6 | D13: 625 | E13: =C13+SUM(INDIRECT("Potverdeling!B"&RANK(D13,D:D)&":B"&RANK(D13,D:D)+COUNTIF(D:D,D13)-1))/COUNTIF(D:D,D13)*$B$23+(MAX(A:A)*50-(SUM(C:C)+$B$23))/MAX(A:A) -> 39.788889 | F13: =RANK(E13,E:E) -> 12
... A19: 18 | B19: Kavu | C19: 24.95 | D19: 418 | E19: =C19+SUM(INDIRECT("Potverdeling!B"&RANK(D19,D:D)&":B"&RANK(D19,D:D)+COUNTIF(D:D,D19)-1))/COUNTIF(D:D,D19)*$B$23+(MAX(A:A)*50-(SUM(C:C)+$B$23))/MAX(A:A) -> 22.138889 | F19: =RANK(E19,E:E) -> 18
A23: POT | B23: 63.4

Sheet 2011
A1: Plek zonder pot | B1: Deelnemer | C1: Opbrengst | D1: Punten | E1: Opbrengst met pot | F1: Plek met pot
A2: 1 | B2: YBA | C2: 65.3 | D2: 940 | E2: =C2+SUM(INDIRECT("Potverdeling!B"&RANK(D2,D:D)&":B"&RANK(D2,D:D)+COUNTIF(D:D,D2)-1))/COUNTIF(D:D,D2)*$B$23+(MAX(A:A)*50-(SUM(C:C)+$B$23))/MAX(A:A) -> 83.868333 | F2: =RANK(E2,E:E) -> 1
A3: 2 | B3: Guust | C3: 57.65 | D3: 808 | E3: =C3+SUM(INDIRECT("Potverdeling!B"&RANK(D3,D:D)&":B"&RANK(D3,D:D)+COUNTIF(D:D,D3)-1))/COUNTIF(D:D,D3)*$B$23+(MAX(A:A)*50-(SUM(C:C)+$B$23))/MAX(A:A) -> 73.381833 | F3: =RANK(E3,E:E) -> 2
A4: 3 | B4: Vinnie | C4: 55.95 | D4: 736 | E4: =C4+SUM(INDIRECT("Potverdeling!B"&RANK(D4,D:D)&":B"&RANK(D4,D:D)+COUNTIF(D:D,D4)-1))/COUNTIF(D:D,D4)*$B$23+(MAX(A:A)*50-(SUM(C:C)+$B$23))/MAX(A:A) -> 69.790833 | F4: =RANK(E4,E:E) -> 3
A5: 4 | B5: IKE | C5: 55.55 | D5: 613 | E5: =C5+SUM(INDIRECT("Potverdeling!B"&RANK(D5,D:D)&":B"&RANK(D5,D:D)+COUNTIF(D:D,D5)-1))/COUNTIF(D:D,D5)*$B$23+(MAX(A:A)*50-(SUM(C:C)+$B$23))/MAX(A:A) -> 59.935833 | F5: =RANK(E5,E:E) -> 6
A6: 5 | B6: TEF | C6: 55.35 | D6: 731 | E6: =C6+SUM(INDIRECT("Potverdeling!B"&RANK(D6,D:D)&":B"&RANK(D6,D:D)+COUNTIF(D:D,D6)-1))/COUNTIF(D:D,D6)*$B$23+(MAX(A:A)*50-(SUM(C:C)+$B$23))/MAX(A:A) -> 66.354333 | F6: =RANK(E6,E:E) -> 4
A7: 6 | B7: Nutwood | C7: 54.25 | D7: 708 | E7: =C7+SUM(INDIRECT("Potverdeling!B"&RANK(D7,D:D)&":B"&RANK(D7,D:D)+COUNTIF(D:D,D7)-1))/COUNTIF(D:D,D7)*$B$23+(MAX(A:A)*50-(SUM(C:C)+$B$23))/MAX(A:A) -> 63.363333 | F7: =RANK(E7,E:E) -> 5
A8: 7 | B8: Paultje | C8: 50.75 | D8: 639 | E8: =C8+SUM(INDIRECT("Potverdeling!B"&RANK(D8,D:D)&":B"&RANK(D8,D:D)+COUNTIF(D:D,D8)-1))/COUNTIF(D:D,D8)*$B$23+(MAX(A:A)*50-(SUM(C:C)+$B$23))/MAX(A:A) -> 57.026833 | F8: =RANK(E8,E:E) -> 7
A9: 8 | B9: Booggie | C9: 44.6 | D9: 595 | E9: =C9+SUM(INDIRECT("Potverdeling!B"&RANK(D9,D:D)&":B"&RANK(D9,D:D)+COUNTIF(D:D,D9)-1))/COUNTIF(D:D,D9)*$B$23+(MAX(A:A)*50-(SUM(C:C)+$B$23))/MAX(A:A) -> 47.094833 | F9: =RANK(E9,E:E) -> 9
A10: 9 | B10: Scheetmans | C10: 44.2 | D10: 639 | E10: =C10+SUM(INDIRECT("Potverdeling!B"&RANK(D10,D:D)&":B"&RANK(D10,D:D)+COUNTIF(D:D,D10)-1))/COUNTIF(D:D,D10)*$B$23+(MAX(A:A)*50-(SUM(C:C)+$B$23))/MAX(A:A) -> 50.476833 | F10: =RANK(E10,E:E) -> 8
A11: 10 | B11: Fairplay | C11: 42.95 | D11: 600 | E11: =C11+SUM(INDIRECT("Potverdeling!B"&RANK(D11,D:D)&":B"&RANK(D11,D:D)+COUNTIF(D:D,D11)-1))/COUNTIF(D:D,D11)*$B$23+(MAX(A:A)*50-(SUM(C:C)+$B$23))/MAX(A:A) -> 46.390333 | F11: =RANK(E11,E:E) -> 10
A12: 11 | B12: Vlieger | C12: 41.9 | D12: 548 | E12: =C12+SUM(INDIRECT("Potverdeling!B"&RANK(D12,D:D)&":B"&RANK(D12,D:D)+COUNTIF(D:D,D12)-1))/COUNTIF(D:D,D12)*$B$23+(MAX(A:A)*50-(SUM(C:C)+$B$23))/MAX(A:A) -> 41.558333 | F12: =RANK(E12,E:E) -> 11
A13: 12 | B13: Jeroen | C13: 41.65 | D13: 589 | E13: =C13+SUM(INDIRECT("Potverdeling!B"&RANK(D13,D:D)&":B"&RANK(D13,D:D)+COUNTIF(D:D,D13)-1))/COUNTIF(D:D,D13)*$B$23+(MAX(A:A)*50-(SUM(C:C)+$B$23))/MAX(A:A) -> 41.308333 | F13: =RANK(E13,E:E) -> 12
... A19: 18 | B19: Speedyy | C19: 22.1 | D19: 347 | E19: =C19+SUM(INDIRECT("Potverdeling!B"&RANK(D19,D:D)&":B"&RANK(D19,D:D)+COUNTIF(D:D,D19)-1))/COUNTIF(D:D,D19)*$B$23+(MAX(A:A)*50-(SUM(C:C)+$B$23))/MAX(A:A) -> 21.758333 | F19: =RANK(E19,E:E) -> 18
A23: POT | B23: 94.55

Sheet 2010
A1: Plek zonder pot | B1: Deelnemer | C1: Opbrengst | D1: Punten | E1: Opbrengst met pot | F1: Plek met pot
A2: 1 | B2: Guust | C2: 68.2 | D2: 937 | E2: =C2+SUM(INDIRECT("Potverdeling!B"&RANK(D2,D:D)&":B"&RANK(D2,D:D)+COUNTIF(D:D,D2)-1))/COUNTIF(D:D,D2)*$B$23+(MAX(A:A)*50-(SUM(C:C)+$B$23))/MAX(A:A) -> 87.713333 | F2: =RANK(E2,E:E) -> 1
A3: 2 | B3: Snatch | C3: 55.15 | D3: 768 | E3: =C3+SUM(INDIRECT("Potverdeling!B"&RANK(D3,D:D)&":B"&RANK(D3,D:D)+COUNTIF(D:D,D3)-1))/COUNTIF(D:D,D3)*$B$23+(MAX(A:A)*50-(SUM(C:C)+$B$23))/MAX(A:A) -> 70.310833 | F3: =RANK(E3,E:E) -> 3
A4: 3 | B4: Vinnie | C4: 54.75 | D4: 784 | E4: =C4+SUM(INDIRECT("Potverdeling!B"&RANK(D4,D:D)&":B"&RANK(D4,D:D)+COUNTIF(D:D,D4)-1))/COUNTIF(D:D,D4)*$B$23+(MAX(A:A)*50-(SUM(C:C)+$B$23))/MAX(A:A) -> 71.651833 | F4: =RANK(E4,E:E) -> 2
A5: 4 | B5: Nutwood | C5: 50 | D5: 692 | E5: =C5+SUM(INDIRECT("Potverdeling!B"&RANK(D5,D:D)&":B"&RANK(D5,D:D)+COUNTIF(D:D,D5)-1))/COUNTIF(D:D,D5)*$B$23+(MAX(A:A)*50-(SUM(C:C)+$B$23))/MAX(A:A) -> 62.549333 | F5: =RANK(E5,E:E) -> 4
A6: 5 | B6: IKE | C6: 46.2 | D6: 683 | E6: =C6+SUM(INDIRECT("Potverdeling!B"&RANK(D6,D:D)&":B"&RANK(D6,D:D)+COUNTIF(D:D,D6)-1))/COUNTIF(D:D,D6)*$B$23+(MAX(A:A)*50-(SUM(C:C)+$B$23))/MAX(A:A) -> 57.008333 | F6: =RANK(E6,E:E) -> 5
A7: 6 | B7: Scheetmans | C7: 43.35 | D7: 597 | E7: =C7+SUM(INDIRECT("Potverdeling!B"&RANK(D7,D:D)&":B"&RANK(D7,D:D)+COUNTIF(D:D,D7)-1))/COUNTIF(D:D,D7)*$B$23+(MAX(A:A)*50-(SUM(C:C)+$B$23))/MAX(A:A) -> 50.676333 | F7: =RANK(E7,E:E) -> 6
A8: 7 | B8: Zwieler | C8: 40.9 | D8: 491 | E8: =C8+SUM(INDIRECT("Potverdeling!B"&RANK(D8,D:D)&":B"&RANK(D8,D:D)+COUNTIF(D:D,D8)-1))/COUNTIF(D:D,D8)*$B$23+(MAX(A:A)*50-(SUM(C:C)+$B$23))/MAX(A:A) -> 43.003333 | F8: =RANK(E8,E:E) -> 10
A9: 8 | B9: Vlieger | C9: 40.4 | D9: 664 | E9: =C9+SUM(INDIRECT("Potverdeling!B"&RANK(D9,D:D)&":B"&RANK(D9,D:D)+COUNTIF(D:D,D9)-1))/COUNTIF(D:D,D9)*$B$23+(MAX(A:A)*50-(SUM(C:C)+$B$23))/MAX(A:A) -> 49.467333 | F9: =RANK(E9,E:E) -> 7
A10: 9 | B10: Jeroen | C10: 38.75 | D10: 536 | E10: =C10+SUM(INDIRECT("Potverdeling!B"&RANK(D10,D:D)&":B"&RANK(D10,D:D)+COUNTIF(D:D,D10)-1))/COUNTIF(D:D,D10)*$B$23+(MAX(A:A)*50-(SUM(C:C)+$B$23))/MAX(A:A) -> 43.464833 | F10: =RANK(E10,E:E) -> 9
A11: 10 | B11: Speedyy | C11: 38.75 | D11: 554 | E11: =C11+SUM(INDIRECT("Potverdeling!B"&RANK(D11,D:D)&":B"&RANK(D11,D:D)+COUNTIF(D:D,D11)-1))/COUNTIF(D:D,D11)*$B$23+(MAX(A:A)*50-(SUM(C:C)+$B$23))/MAX(A:A) -> 44.335333 | F11: =RANK(E11,E:E) -> 8
A12: 11 | B12: Luca | C12: 38.55 | D12: 477 | E12: =C12+SUM(INDIRECT("Potverdeling!B"&RANK(D12,D:D)&":B"&RANK(D12,D:D)+COUNTIF(D:D,D12)-1))/COUNTIF(D:D,D12)*$B$23+(MAX(A:A)*50-(SUM(C:C)+$B$23))/MAX(A:A) -> 40.653333 | F12: =RANK(E12,E:E) -> 12
A13: 12 | B13: Kavu | C13: 34.85 | D13: 555 | E13: =C13+SUM(INDIRECT("Potverdeling!B"&RANK(D13,D:D)&":B"&RANK(D13,D:D)+COUNTIF(D:D,D13)-1))/COUNTIF(D:D,D13)*$B$23+(MAX(A:A)*50-(SUM(C:C)+$B$23))/MAX(A:A) -> 41.305833 | F13: =RANK(E13,E:E) -> 11
... A16: 15 | B16: YBA | C16: 26.5 | D16: 361 | E16: =C16+SUM(INDIRECT("Potverdeling!B"&RANK(D16,D:D)&":B"&RANK(D16,D:D)+COUNTIF(D:D,D16)-1))/COUNTIF(D:D,D16)*$B$23+(MAX(A:A)*50-(SUM(C:C)+$B$23))/MAX(A:A) -> 28.603333 | F16: =RANK(E16,E:E) -> 15
A23: POT | B23: 87.05

Sheet 2009
A1: Plek zonder pot | B1: Deelnemer | C1: Opbrengst | D1: Punten | E1: Opbrengst met pot | F1: Plek met pot
A2: 1 | B2: Nutwood | C2: 73.25 | D2: 720 | E2: =C2+SUM(INDIRECT("Potverdeling!B"&RANK(D2,D:D)&":B"&RANK(D2,D:D)+COUNTIF(D:D,D2)-1))/COUNTIF(D:D,D2)*$B$23+(MAX(A:A)*50-(SUM(C:C)+$B$23))/MAX(A:A) -> 96.533333 | F2: =RANK(E2,E:E) -> 1
A3: 2 | B3: Luca | C3: 50.4 | D3: 677 | E3: =C3+SUM(INDIRECT("Potverdeling!B"&RANK(D3,D:D)&":B"&RANK(D3,D:D)+COUNTIF(D:D,D3)-1))/COUNTIF(D:D,D3)*$B$23+(MAX(A:A)*50-(SUM(C:C)+$B$23))/MAX(A:A) -> 68.430833 | F3: =RANK(E3,E:E) -> 3
A4: 3 | B4: Speedyy | C4: 49.1 | D4: 705 | E4: =C4+SUM(INDIRECT("Potverdeling!B"&RANK(D4,D:D)&":B"&RANK(D4,D:D)+COUNTIF(D:D,D4)-1))/COUNTIF(D:D,D4)*$B$23+(MAX(A:A)*50-(SUM(C:C)+$B$23))/MAX(A:A) -> 69.231833 | F4: =RANK(E4,E:E) -> 2
A5: 4 | B5: Kavu | C5: 46.45 | D5: 650 | E5: =C5+SUM(INDIRECT("Potverdeling!B"&RANK(D5,D:D)&":B"&RANK(D5,D:D)+COUNTIF(D:D,D5)-1))/COUNTIF(D:D,D5)*$B$23+(MAX(A:A)*50-(SUM(C:C)+$B$23))/MAX(A:A) -> 61.329333 | F5: =RANK(E5,E:E) -> 4
A6: 5 | B6: Zwieler | C6: 46.4 | D6: 580 | E6: =C6+SUM(INDIRECT("Potverdeling!B"&RANK(D6,D:D)&":B"&RANK(D6,D:D)+COUNTIF(D:D,D6)-1))/COUNTIF(D:D,D6)*$B$23+(MAX(A:A)*50-(SUM(C:C)+$B$23))/MAX(A:A) -> 58.127833 | F6: =RANK(E6,E:E) -> 5
A7: 6 | B7: Booggie | C7: 45.85 | D7: 570 | E7: =C7+SUM(INDIRECT("Potverdeling!B"&RANK(D7,D:D)&":B"&RANK(D7,D:D)+COUNTIF(D:D,D7)-1))/COUNTIF(D:D,D7)*$B$23+(MAX(A:A)*50-(SUM(C:C)+$B$23))/MAX(A:A) -> 53.375833 | F7: =RANK(E7,E:E) -> 8
A8: 7 | B8: Guust | C8: 45 | D8: 574 | E8: =C8+SUM(INDIRECT("Potverdeling!B"&RANK(D8,D:D)&":B"&RANK(D8,D:D)+COUNTIF(D:D,D8)-1))/COUNTIF(D:D,D8)*$B$23+(MAX(A:A)*50-(SUM(C:C)+$B$23))/MAX(A:A) -> 53.576333 | F8: =RANK(E8,E:E) -> 7
A9: 8 | B9: Snatch | C9: 44 | D9: 492 | E9: =C9+SUM(INDIRECT("Potverdeling!B"&RANK(D9,D:D)&":B"&RANK(D9,D:D)+COUNTIF(D:D,D9)-1))/COUNTIF(D:D,D9)*$B$23+(MAX(A:A)*50-(SUM(C:C)+$B$23))/MAX(A:A) -> 49.424833 | F9: =RANK(E9,E:E) -> 9
A10: 9 | B10: Vlieger | C10: 43.15 | D10: 580 | E10: =C10+SUM(INDIRECT("Potverdeling!B"&RANK(D10,D:D)&":B"&RANK(D10,D:D)+COUNTIF(D:D,D10)-1))/COUNTIF(D:D,D10)*$B$23+(MAX(A:A)*50-(SUM(C:C)+$B$23))/MAX(A:A) -> 54.877833 | F10: =RANK(E10,E:E) -> 6
A11: 10 | B11: YBA | C11: 37.45 | D11: 450 | E11: =C11+SUM(INDIRECT("Potverdeling!B"&RANK(D11,D:D)&":B"&RANK(D11,D:D)+COUNTIF(D:D,D11)-1))/COUNTIF(D:D,D11)*$B$23+(MAX(A:A)*50-(SUM(C:C)+$B$23))/MAX(A:A) -> 39.723333 | F11: =RANK(E11,E:E) -> 11
A12: 11 | B12: Jeroen | C12: 33.55 | D12: 502 | E12: =C12+SUM(INDIRECT("Potverdeling!B"&RANK(D12,D:D)&":B"&RANK(D12,D:D)+COUNTIF(D:D,D12)-1))/COUNTIF(D:D,D12)*$B$23+(MAX(A:A)*50-(SUM(C:C)+$B$23))/MAX(A:A) -> 40.025333 | F12: =RANK(E12,E:E) -> 10
A13: 12 | B13: Rins | C13: 26.15 | D13: 409 | E13: =C13+SUM(INDIRECT("Potverdeling!B"&RANK(D13,D:D)&":B"&RANK(D13,D:D)+COUNTIF(D:D,D13)-1))/COUNTIF(D:D,D13)*$B$23+(MAX(A:A)*50-(SUM(C:C)+$B$23))/MAX(A:A) -> 28.423333 | F13: =RANK(E13,E:E) -> 12
... A16: 15 | B16: TEF | C16: 22.7 | D16: 279 | E16: =C16+SUM(INDIRECT("Potverdeling!B"&RANK(D16,D:D)&":B"&RANK(D16,D:D)+COUNTIF(D:D,D16)-1))/COUNTIF(D:D,D16)*$B$23+(MAX(A:A)*50-(SUM(C:C)+$B$23))/MAX(A:A) -> 24.973333 | F16: =RANK(E16,E:E) -> 15
A23: POT | B23: 105.05

Sheet Potverdeling
A1: 1 | B1: 0.2
A2: 2 | B2: 0.17
A3: 3 | B3: 0.15
A4: 4 | B4: 0.12
A5: 5 | B5: 0.1
A6: 6 | B6: 0.08
A7: 7 | B7: 0.06
A8: 8 | B8: 0.05
A9: 9 | B9: 0.04
A10: 10 | B10: 0.03

Sheet Deelnemers
A1: Arneboy
A2: Booggie
A3: Chef
A4: Fairplay
A5: FC Wheelie
A6: GMV
A7: Guust
A8: Homme
A9: IKE
A10: Japie
A11: Jeroen
A12: JoeDombrowskiFan
... A29: Zwieler

Sheet Jaren
A1: 2009
A2: 2010
A3: 2011
A4: 2012
A5: 2013
A6: 2014
A7: 2015
A8: 2016
A9: 2017
A10: 2018
A11: 2019
A12: 2020
... A14: 2022
